BEGIN:VCALENDAR
VERSION:2.0
PRODID:-//Wenham Museum - ECPv6.15.20//NONSGML v1.0//EN
CALSCALE:GREGORIAN
METHOD:PUBLISH
X-WR-CALNAME:Wenham Museum
X-ORIGINAL-URL:https://www.wenhammuseum.org
X-WR-CALDESC:Events for Wenham Museum
REFRESH-INTERVAL;VALUE=DURATION:PT1H
X-Robots-Tag:noindex
X-PUBLISHED-TTL:PT1H
BEGIN:VTIMEZONE
TZID:America/New_York
BEGIN:DAYLIGHT
TZOFFSETFROM:-0500
TZOFFSETTO:-0400
TZNAME:EDT
DTSTART:20200308T070000
END:DAYLIGHT
BEGIN:STANDARD
TZOFFSETFROM:-0400
TZOFFSETTO:-0500
TZNAME:EST
DTSTART:20201101T060000
END:STANDARD
BEGIN:DAYLIGHT
TZOFFSETFROM:-0500
TZOFFSETTO:-0400
TZNAME:EDT
DTSTART:20210314T070000
END:DAYLIGHT
BEGIN:STANDARD
TZOFFSETFROM:-0400
TZOFFSETTO:-0500
TZNAME:EST
DTSTART:20211107T060000
END:STANDARD
BEGIN:DAYLIGHT
TZOFFSETFROM:-0500
TZOFFSETTO:-0400
TZNAME:EDT
DTSTART:20220313T070000
END:DAYLIGHT
BEGIN:STANDARD
TZOFFSETFROM:-0400
TZOFFSETTO:-0500
TZNAME:EST
DTSTART:20221106T060000
END:STANDARD
END:VTIMEZONE
BEGIN:VEVENT
DTSTART;TZID=America/New_York:20211113T103000
DTEND;TZID=America/New_York:20211113T120000
DTSTAMP:20260425T110503
CREATED:20211112T203444Z
LAST-MODIFIED:20211112T203629Z
UID:10000088-1636799400-1636804800@www.wenhammuseum.org
SUMMARY:Patton Family Archives Tours
DESCRIPTION:The Patton Family Archives chronicle the life and legacy of one of America’s premier military families who resided here on Boston’s North Shore. The Archives are also an untapped\, unparalleled resource regarding the service and sacrifice of Maj. Gen. Patton and his troops during the Korean and Vietnam Wars and that of his wife\, Joanne Holbrook Patton\, on the home front. \nGuided tours are offered at select dates and times and are available only by advanced online reservation through the Wenham Museum. Tours are approximately 90 minutes in length and include time for questions. Payment is required at the time of booking. \nGROUPS\nGroup tours are available for parties of 6 or more on a mutually agreeable date at time. We kindly ask for two weeks lead time for scheduling groups. Please contact the museum at info@wenhammuseum.org or (978) 468-2377\, ext. 113 to inquire. \nPARKING & ACCESSIBILITY\nPublic parking is available in gravel lot located next to the Homestead. There is an incline to walk from the parking lot to the Homestead.  We regret that at this time\, the Archives and the Homestead are not fully handicapped accessible. \nThe Wenham Museum owns and operates the Patton Family Archives. The museum leases space within the Patton Homestead to display the Archives.
URL:https://www.wenhammuseum.org/event/patton-family-archives-tours/2021-11-13/
LOCATION:Patton Homestead\, 650 Asbury Street\, Hamilton\, MA\, 01982\, United States
CATEGORIES:Local History,Military History
ATTACH;FMTTYPE=image/jpeg:https://www.wenhammuseum.org/wp-content/uploads/2021/11/Patton-Family-Archives-Tours-700-x-525-px-1.jpg
END:VEVENT
BEGIN:VEVENT
DTSTART;TZID=America/New_York:20211023T103000
DTEND;TZID=America/New_York:20211023T120000
DTSTAMP:20260425T110503
CREATED:20211112T203444Z
LAST-MODIFIED:20211112T203629Z
UID:10000087-1634985000-1634990400@www.wenhammuseum.org
SUMMARY:Patton Family Archives Tours
DESCRIPTION:The Patton Family Archives chronicle the life and legacy of one of America’s premier military families who resided here on Boston’s North Shore. The Archives are also an untapped\, unparalleled resource regarding the service and sacrifice of Maj. Gen. Patton and his troops during the Korean and Vietnam Wars and that of his wife\, Joanne Holbrook Patton\, on the home front. \nGuided tours are offered at select dates and times and are available only by advanced online reservation through the Wenham Museum. Tours are approximately 90 minutes in length and include time for questions. Payment is required at the time of booking. \nGROUPS\nGroup tours are available for parties of 6 or more on a mutually agreeable date at time. We kindly ask for two weeks lead time for scheduling groups. Please contact the museum at info@wenhammuseum.org or (978) 468-2377\, ext. 113 to inquire. \nPARKING & ACCESSIBILITY\nPublic parking is available in gravel lot located next to the Homestead. There is an incline to walk from the parking lot to the Homestead.  We regret that at this time\, the Archives and the Homestead are not fully handicapped accessible. \nThe Wenham Museum owns and operates the Patton Family Archives. The museum leases space within the Patton Homestead to display the Archives.
URL:https://www.wenhammuseum.org/event/patton-family-archives-tours/2021-10-23/
LOCATION:Patton Homestead\, 650 Asbury Street\, Hamilton\, MA\, 01982\, United States
CATEGORIES:Local History,Military History
ATTACH;FMTTYPE=image/jpeg:https://www.wenhammuseum.org/wp-content/uploads/2021/11/Patton-Family-Archives-Tours-700-x-525-px-1.jpg
END:VEVENT
BEGIN:VEVENT
DTSTART;TZID=America/New_York:20211002T103000
DTEND;TZID=America/New_York:20211002T120000
DTSTAMP:20260425T110503
CREATED:20211112T203444Z
LAST-MODIFIED:20211112T203629Z
UID:10000086-1633170600-1633176000@www.wenhammuseum.org
SUMMARY:Patton Family Archives Tours
DESCRIPTION:The Patton Family Archives chronicle the life and legacy of one of America’s premier military families who resided here on Boston’s North Shore. The Archives are also an untapped\, unparalleled resource regarding the service and sacrifice of Maj. Gen. Patton and his troops during the Korean and Vietnam Wars and that of his wife\, Joanne Holbrook Patton\, on the home front. \nGuided tours are offered at select dates and times and are available only by advanced online reservation through the Wenham Museum. Tours are approximately 90 minutes in length and include time for questions. Payment is required at the time of booking. \nGROUPS\nGroup tours are available for parties of 6 or more on a mutually agreeable date at time. We kindly ask for two weeks lead time for scheduling groups. Please contact the museum at info@wenhammuseum.org or (978) 468-2377\, ext. 113 to inquire. \nPARKING & ACCESSIBILITY\nPublic parking is available in gravel lot located next to the Homestead. There is an incline to walk from the parking lot to the Homestead.  We regret that at this time\, the Archives and the Homestead are not fully handicapped accessible. \nThe Wenham Museum owns and operates the Patton Family Archives. The museum leases space within the Patton Homestead to display the Archives.
URL:https://www.wenhammuseum.org/event/patton-family-archives-tours/2021-10-02/
LOCATION:Patton Homestead\, 650 Asbury Street\, Hamilton\, MA\, 01982\, United States
CATEGORIES:Local History,Military History
ATTACH;FMTTYPE=image/jpeg:https://www.wenhammuseum.org/wp-content/uploads/2021/11/Patton-Family-Archives-Tours-700-x-525-px-1.jpg
END:VEVENT
END:VCALENDAR