BEGIN:VCALENDAR
VERSION:2.0
PRODID:-//Wenham Museum - ECPv6.15.20//NONSGML v1.0//EN
CALSCALE:GREGORIAN
METHOD:PUBLISH
X-WR-CALNAME:Wenham Museum
X-ORIGINAL-URL:https://www.wenhammuseum.org
X-WR-CALDESC:Events for Wenham Museum
REFRESH-INTERVAL;VALUE=DURATION:PT1H
X-Robots-Tag:noindex
X-PUBLISHED-TTL:PT1H
BEGIN:VTIMEZONE
TZID:America/New_York
BEGIN:DAYLIGHT
TZOFFSETFROM:-0500
TZOFFSETTO:-0400
TZNAME:EDT
DTSTART:20210314T070000
END:DAYLIGHT
BEGIN:STANDARD
TZOFFSETFROM:-0400
TZOFFSETTO:-0500
TZNAME:EST
DTSTART:20211107T060000
END:STANDARD
BEGIN:DAYLIGHT
TZOFFSETFROM:-0500
TZOFFSETTO:-0400
TZNAME:EDT
DTSTART:20220313T070000
END:DAYLIGHT
BEGIN:STANDARD
TZOFFSETFROM:-0400
TZOFFSETTO:-0500
TZNAME:EST
DTSTART:20221106T060000
END:STANDARD
BEGIN:DAYLIGHT
TZOFFSETFROM:-0500
TZOFFSETTO:-0400
TZNAME:EDT
DTSTART:20230312T070000
END:DAYLIGHT
BEGIN:STANDARD
TZOFFSETFROM:-0400
TZOFFSETTO:-0500
TZNAME:EST
DTSTART:20231105T060000
END:STANDARD
END:VTIMEZONE
BEGIN:VEVENT
DTSTART;TZID=America/New_York:20221204T130000
DTEND;TZID=America/New_York:20221204T160000
DTSTAMP:20260421T073104
CREATED:20221110T165050Z
LAST-MODIFIED:20221127T140812Z
UID:10000281-1670158800-1670169600@www.wenhammuseum.org
SUMMARY:Winter Family Festival
DESCRIPTION:Join the Hamilton-Wenham Garden Club and the Wenham Museum for their first-ever Winter Family Festival!  Celebrate the season with story time\, hot cocoa\, and crafts inspired by nature and classic New England holiday traditions. \nFestival Activities\n– Make a birdfeeder with pinecones\, sun butter\, and bird seed\n– Create a clothespin reindeer\n– Cut and decorate some snowflake to decorate your home for the season\n– Read winter-themed stories by a decorated hearth in the museum’s historic house\n– Take your photo in our DIY Winter Wonderland photo booth\n– Enjoy hot cocoa with mini marshmallows and candy canes \nCenterpieces & Boxwood Trees for Sale\nThe Hamilton-Wenham Garden Club will also be selling centerpieces and boxwood trees created by their talented members!  Items will be for sale in the Museum Lobby.  If  you are just stopping by to purchase a centerpiece or tree\, you do not need to pay museum admission or purchase event tickets. \nTICKETS \n$8.00 Wenham Museum Member Child\nFREE Wenham Museum Member Adult/Senior\n$13.00 Nonmember Child\n$10.00 Nonmember Adult\n$8.00  Nonmember Senior \nThe proceeds from this event support the nonprofit Hamilton-Wenham Garden Club and the nonprofit Wenham Museum.  Thank You! 
URL:https://www.wenhammuseum.org/event/winterfamilyfest2022/
CATEGORIES:Children & Families,Community Events,Fundraiser
ATTACH;FMTTYPE=image/jpeg:https://www.wenhammuseum.org/wp-content/uploads/2022/11/thumbnail_event-image_Museum.jpg
END:VEVENT
END:VCALENDAR