BEGIN:VCALENDAR
VERSION:2.0
PRODID:-//Wenham Museum - ECPv6.15.20//NONSGML v1.0//EN
CALSCALE:GREGORIAN
METHOD:PUBLISH
X-ORIGINAL-URL:https://www.wenhammuseum.org
X-WR-CALDESC:Events for Wenham Museum
REFRESH-INTERVAL;VALUE=DURATION:PT1H
X-Robots-Tag:noindex
X-PUBLISHED-TTL:PT1H
BEGIN:VTIMEZONE
TZID:America/New_York
BEGIN:DAYLIGHT
TZOFFSETFROM:-0500
TZOFFSETTO:-0400
TZNAME:EDT
DTSTART:20240310T070000
END:DAYLIGHT
BEGIN:STANDARD
TZOFFSETFROM:-0400
TZOFFSETTO:-0500
TZNAME:EST
DTSTART:20241103T060000
END:STANDARD
BEGIN:DAYLIGHT
TZOFFSETFROM:-0500
TZOFFSETTO:-0400
TZNAME:EDT
DTSTART:20250309T070000
END:DAYLIGHT
BEGIN:STANDARD
TZOFFSETFROM:-0400
TZOFFSETTO:-0500
TZNAME:EST
DTSTART:20251102T060000
END:STANDARD
BEGIN:DAYLIGHT
TZOFFSETFROM:-0500
TZOFFSETTO:-0400
TZNAME:EDT
DTSTART:20260308T070000
END:DAYLIGHT
BEGIN:STANDARD
TZOFFSETFROM:-0400
TZOFFSETTO:-0500
TZNAME:EST
DTSTART:20261101T060000
END:STANDARD
END:VTIMEZONE
BEGIN:VEVENT
DTSTART;TZID=America/New_York:20250702T100000
DTEND;TZID=America/New_York:20250702T103000
DTSTAMP:20260421T184047
CREATED:20250626T161743Z
LAST-MODIFIED:20250730T142544Z
UID:10003484-1751450400-1751452200@www.wenhammuseum.org
SUMMARY:Stitches & Stories
DESCRIPTION:Wrap yourself in stories! Each week we’ll read a children’s book and explore a quilt or another object from the museum’s collection to bring the story to life. \nFree with general museum admission • Ages 0–5 • No registration required \n________ \nThis event is part of Mornings at the Museum—a fun\, enriching way for little ones and their caregivers to start the day! Each session features a drop-in program designed especially for children under 5.
URL:https://www.wenhammuseum.org/event/stitches-stories/2025-07-02/
CATEGORIES:Children & Families,Preschool Programs
ATTACH;FMTTYPE=image/jpeg:https://www.wenhammuseum.org/wp-content/uploads/2025/05/Stitches-Stories-3.jpg
END:VEVENT
BEGIN:VEVENT
DTSTART;TZID=America/New_York:20250703T100000
DTEND;TZID=America/New_York:20250703T223000
DTSTAMP:20260421T184047
CREATED:20250626T162834Z
LAST-MODIFIED:20250626T162834Z
UID:10003493-1751536800-1751581800@www.wenhammuseum.org
SUMMARY:Mornings at the Museum
DESCRIPTION:Join us for Mornings at the Museum—a fun\, enriching way for little ones and their caregivers to start the day! Each session features a drop-in program designed especially for children under 5. \nWe rotate weekly activities across these topics: \n🧵 Hands-On History & Play: Step into the past with interactive play inspired by real museum objects. \n🎨 Arts & Making: Hands-on crafts\, open-ended projects\, and sensory art activities. \n🎵 Movement & Music: Sing\, dance\, and play your way through rhythm and motion. \n📚 Literacy & Language: Build early literacy through stories\, rhymes\, and interactive reading fun. \n🔬 STEM & Discovery: Explore science\, nature\, and problem-solving through playful experiments. \nDiscover something new every week—and make memories that last a lifetime! Bring your little one to play\, learn\, and grow through joyful\, play-based museum fun! \nFree with general museum admission • Ages 0–5 • No registration required
URL:https://www.wenhammuseum.org/event/mornings-at-the-museum-2/
CATEGORIES:Children & Families,Preschool Programs
ATTACH;FMTTYPE=image/jpeg:https://www.wenhammuseum.org/wp-content/uploads/2025/05/Mornings-at-the-Museum-2.jpg
END:VEVENT
BEGIN:VEVENT
DTSTART;VALUE=DATE:20250704
DTEND;VALUE=DATE:20250705
DTSTAMP:20260421T184047
CREATED:20250620T173003Z
LAST-MODIFIED:20250620T173003Z
UID:10003464-1751587200-1751673599@www.wenhammuseum.org
SUMMARY:Closed - Fourth of July
DESCRIPTION:The Wenham Museum will be closed on Friday\, July 4 and Saturday\, July 5\, 2025 in observance of the Fourth of July holiday. \nAs a reminder\, the museum is regularly closed on Sundays\, Mondays\, and Tuesdays. We will reopen with normal hours on Wednesday\, July 9 at 9 a.m.
URL:https://www.wenhammuseum.org/event/closed-fourth-of-july-2/2025-07-04/
ATTACH;FMTTYPE=image/png:https://www.wenhammuseum.org/wp-content/uploads/2024/06/Closed-Fourth-4th-of-July.png
END:VEVENT
BEGIN:VEVENT
DTSTART;VALUE=DATE:20250705
DTEND;VALUE=DATE:20250706
DTSTAMP:20260421T184047
CREATED:20250620T173003Z
LAST-MODIFIED:20250620T173003Z
UID:10003465-1751673600-1751759999@www.wenhammuseum.org
SUMMARY:Closed - Fourth of July
DESCRIPTION:The Wenham Museum will be closed on Friday\, July 4 and Saturday\, July 5\, 2025 in observance of the Fourth of July holiday. \nAs a reminder\, the museum is regularly closed on Sundays\, Mondays\, and Tuesdays. We will reopen with normal hours on Wednesday\, July 9 at 9 a.m.
URL:https://www.wenhammuseum.org/event/closed-fourth-of-july-2/2025-07-05/
ATTACH;FMTTYPE=image/png:https://www.wenhammuseum.org/wp-content/uploads/2024/06/Closed-Fourth-4th-of-July.png
END:VEVENT
BEGIN:VEVENT
DTSTART;TZID=America/New_York:20250709T100000
DTEND;TZID=America/New_York:20250709T103000
DTSTAMP:20260421T184047
CREATED:20250626T161743Z
LAST-MODIFIED:20250730T142544Z
UID:10003485-1752055200-1752057000@www.wenhammuseum.org
SUMMARY:Stitches & Stories
DESCRIPTION:Wrap yourself in stories! Each week we’ll read a children’s book and explore a quilt or another object from the museum’s collection to bring the story to life. \nFree with general museum admission • Ages 0–5 • No registration required \n________ \nThis event is part of Mornings at the Museum—a fun\, enriching way for little ones and their caregivers to start the day! Each session features a drop-in program designed especially for children under 5.
URL:https://www.wenhammuseum.org/event/stitches-stories/2025-07-09/
CATEGORIES:Children & Families,Preschool Programs
ATTACH;FMTTYPE=image/jpeg:https://www.wenhammuseum.org/wp-content/uploads/2025/05/Stitches-Stories-3.jpg
END:VEVENT
BEGIN:VEVENT
DTSTART;TZID=America/New_York:20250710T080000
DTEND;TZID=America/New_York:20250710T170000
DTSTAMP:20260421T184047
CREATED:20250626T162638Z
LAST-MODIFIED:20250626T162638Z
UID:10003489-1752134400-1752166800@www.wenhammuseum.org
SUMMARY:Moving & Grooving
DESCRIPTION:Join High Street Studios at Wenham Museum for Moving and Grooving\, a 4-week music and movement class designed for children and their caregivers! Each 30-minute session is packed with fun activities that foster gross and fine motor skills\, explore concepts of space\, time\, and energy\, and enhance social skills in a nurturing environment. Through movement improvisation\, children are encouraged to express themselves freely. \nHere’s what we’ll be exploring each week: \n\nJuly 10: From Head to Toes! We’ll dive into the wonderful world of Eric Carle’s “From Head to Toes\,” moving our bodies just like the animals in the book!\nJuly 17: A Day at the Beach! Get ready for some seaside fun as we imagine a day at the beach through movement and music.\nJuly 24: Moving Like a Bubble! We’ll explore floating\, popping\, and drifting as we learn to move with the lightness and freedom of a bubble.\nJuly 31: Soaring Like a Bird! It’s time to take flight! We’ll stretch our wings and soar through imaginative movements inspired by birds.\n\nFree with general museum admission • Ages 0–5 • No registration required \n________ \nThis event is part of Mornings at the Museum—a fun\, enriching way for little ones and their caregivers to start the day! Each session features a drop-in program designed especially for children under 5.
URL:https://www.wenhammuseum.org/event/moving-grooving/2025-07-10/
CATEGORIES:Children & Families,Preschool Programs
ATTACH;FMTTYPE=image/jpeg:https://www.wenhammuseum.org/wp-content/uploads/2025/06/Thursday-3.jpg
END:VEVENT
BEGIN:VEVENT
DTSTART;TZID=America/New_York:20250711T093000
DTEND;TZID=America/New_York:20250711T113000
DTSTAMP:20260421T184047
CREATED:20240822T165403Z
LAST-MODIFIED:20250724T172154Z
UID:10002344-1752226200-1752233400@www.wenhammuseum.org
SUMMARY:M is for Museum & P is for Playdate
DESCRIPTION:Join us the 2nd Friday of the month for our M is for Museum/P is for Playdate program!  Each month\, we read a story\, then do a related craft or activity. \nThese programs have been designed to address MA curriculum standards for Pre-K in Reading and Literature\, Science\, Personal and Social Development and Peer Relationships. \nPROGRAM DETAILS\n2nd Friday of the Month\n9:30 a.m. ages 18 months-2.9 years\n10:30 a.m. ages 2.9 years+\nIncluded with Admission\nFree for Members\nFree for Residents of Hamilton\, Wenham\, Manchester & Essex with advanced registration through Early Childhood Partners >> \nSponsored by Early Childhood Partners via Mass. Department of Early Education & Care and the Hamilton-Wenham Regional School District.
URL:https://www.wenhammuseum.org/event/m-is-for-museum-p-is-for-playdate-4/2025-07-11/
CATEGORIES:Children & Families,Preschool Programs
ATTACH;FMTTYPE=image/png:https://www.wenhammuseum.org/wp-content/uploads/2022/08/MIFM-Stock-Photo-700-x-525-1.png
END:VEVENT
BEGIN:VEVENT
DTSTART;TZID=America/New_York:20250711T100000
DTEND;TZID=America/New_York:20250711T103000
DTSTAMP:20260421T184047
CREATED:20250625T202421Z
LAST-MODIFIED:20250625T202656Z
UID:10003477-1752228000-1752229800@www.wenhammuseum.org
SUMMARY:Music Time
DESCRIPTION:Sing\, clap\, and groove with musicians from Beverly Music Academy in this joyful\, play-based music program for young children. Each week features different songs\, rhythm games\, and musical stories designed to spark creativity and movement. \nFree with general museum admission • Ages 0–5 • No registration required \n________ \nThis event is part of Mornings at the Museum—a fun\, enriching way for little ones and their caregivers to start the day! Each session features a drop-in program designed especially for children under 5.
URL:https://www.wenhammuseum.org/event/stiches-stories-2-2/2025-07-11/
CATEGORIES:Children & Families,Preschool Programs
ATTACH;FMTTYPE=image/jpeg:https://www.wenhammuseum.org/wp-content/uploads/2025/05/Music-2.jpg
END:VEVENT
BEGIN:VEVENT
DTSTART;TZID=America/New_York:20250716T100000
DTEND;TZID=America/New_York:20250716T103000
DTSTAMP:20260421T184047
CREATED:20250626T161743Z
LAST-MODIFIED:20250730T142544Z
UID:10003486-1752660000-1752661800@www.wenhammuseum.org
SUMMARY:Stitches & Stories
DESCRIPTION:Wrap yourself in stories! Each week we’ll read a children’s book and explore a quilt or another object from the museum’s collection to bring the story to life. \nFree with general museum admission • Ages 0–5 • No registration required \n________ \nThis event is part of Mornings at the Museum—a fun\, enriching way for little ones and their caregivers to start the day! Each session features a drop-in program designed especially for children under 5.
URL:https://www.wenhammuseum.org/event/stitches-stories/2025-07-16/
CATEGORIES:Children & Families,Preschool Programs
ATTACH;FMTTYPE=image/jpeg:https://www.wenhammuseum.org/wp-content/uploads/2025/05/Stitches-Stories-3.jpg
END:VEVENT
BEGIN:VEVENT
DTSTART;TZID=America/New_York:20250717T080000
DTEND;TZID=America/New_York:20250717T170000
DTSTAMP:20260421T184047
CREATED:20250626T162638Z
LAST-MODIFIED:20250626T162638Z
UID:10003490-1752739200-1752771600@www.wenhammuseum.org
SUMMARY:Moving & Grooving
DESCRIPTION:Join High Street Studios at Wenham Museum for Moving and Grooving\, a 4-week music and movement class designed for children and their caregivers! Each 30-minute session is packed with fun activities that foster gross and fine motor skills\, explore concepts of space\, time\, and energy\, and enhance social skills in a nurturing environment. Through movement improvisation\, children are encouraged to express themselves freely. \nHere’s what we’ll be exploring each week: \n\nJuly 10: From Head to Toes! We’ll dive into the wonderful world of Eric Carle’s “From Head to Toes\,” moving our bodies just like the animals in the book!\nJuly 17: A Day at the Beach! Get ready for some seaside fun as we imagine a day at the beach through movement and music.\nJuly 24: Moving Like a Bubble! We’ll explore floating\, popping\, and drifting as we learn to move with the lightness and freedom of a bubble.\nJuly 31: Soaring Like a Bird! It’s time to take flight! We’ll stretch our wings and soar through imaginative movements inspired by birds.\n\nFree with general museum admission • Ages 0–5 • No registration required \n________ \nThis event is part of Mornings at the Museum—a fun\, enriching way for little ones and their caregivers to start the day! Each session features a drop-in program designed especially for children under 5.
URL:https://www.wenhammuseum.org/event/moving-grooving/2025-07-17/
CATEGORIES:Children & Families,Preschool Programs
ATTACH;FMTTYPE=image/jpeg:https://www.wenhammuseum.org/wp-content/uploads/2025/06/Thursday-3.jpg
END:VEVENT
BEGIN:VEVENT
DTSTART;TZID=America/New_York:20250718T100000
DTEND;TZID=America/New_York:20250718T103000
DTSTAMP:20260421T184047
CREATED:20250625T202421Z
LAST-MODIFIED:20250625T202656Z
UID:10003478-1752832800-1752834600@www.wenhammuseum.org
SUMMARY:Music Time
DESCRIPTION:Sing\, clap\, and groove with musicians from Beverly Music Academy in this joyful\, play-based music program for young children. Each week features different songs\, rhythm games\, and musical stories designed to spark creativity and movement. \nFree with general museum admission • Ages 0–5 • No registration required \n________ \nThis event is part of Mornings at the Museum—a fun\, enriching way for little ones and their caregivers to start the day! Each session features a drop-in program designed especially for children under 5.
URL:https://www.wenhammuseum.org/event/stiches-stories-2-2/2025-07-18/
CATEGORIES:Children & Families,Preschool Programs
ATTACH;FMTTYPE=image/jpeg:https://www.wenhammuseum.org/wp-content/uploads/2025/05/Music-2.jpg
END:VEVENT
BEGIN:VEVENT
DTSTART;TZID=America/New_York:20250723T100000
DTEND;TZID=America/New_York:20250723T103000
DTSTAMP:20260421T184047
CREATED:20250626T161743Z
LAST-MODIFIED:20250730T142544Z
UID:10003487-1753264800-1753266600@www.wenhammuseum.org
SUMMARY:Stitches & Stories
DESCRIPTION:Wrap yourself in stories! Each week we’ll read a children’s book and explore a quilt or another object from the museum’s collection to bring the story to life. \nFree with general museum admission • Ages 0–5 • No registration required \n________ \nThis event is part of Mornings at the Museum—a fun\, enriching way for little ones and their caregivers to start the day! Each session features a drop-in program designed especially for children under 5.
URL:https://www.wenhammuseum.org/event/stitches-stories/2025-07-23/
CATEGORIES:Children & Families,Preschool Programs
ATTACH;FMTTYPE=image/jpeg:https://www.wenhammuseum.org/wp-content/uploads/2025/05/Stitches-Stories-3.jpg
END:VEVENT
BEGIN:VEVENT
DTSTART;TZID=America/New_York:20250724T080000
DTEND;TZID=America/New_York:20250724T170000
DTSTAMP:20260421T184047
CREATED:20250626T162638Z
LAST-MODIFIED:20250626T162638Z
UID:10003491-1753344000-1753376400@www.wenhammuseum.org
SUMMARY:Moving & Grooving
DESCRIPTION:Join High Street Studios at Wenham Museum for Moving and Grooving\, a 4-week music and movement class designed for children and their caregivers! Each 30-minute session is packed with fun activities that foster gross and fine motor skills\, explore concepts of space\, time\, and energy\, and enhance social skills in a nurturing environment. Through movement improvisation\, children are encouraged to express themselves freely. \nHere’s what we’ll be exploring each week: \n\nJuly 10: From Head to Toes! We’ll dive into the wonderful world of Eric Carle’s “From Head to Toes\,” moving our bodies just like the animals in the book!\nJuly 17: A Day at the Beach! Get ready for some seaside fun as we imagine a day at the beach through movement and music.\nJuly 24: Moving Like a Bubble! We’ll explore floating\, popping\, and drifting as we learn to move with the lightness and freedom of a bubble.\nJuly 31: Soaring Like a Bird! It’s time to take flight! We’ll stretch our wings and soar through imaginative movements inspired by birds.\n\nFree with general museum admission • Ages 0–5 • No registration required \n________ \nThis event is part of Mornings at the Museum—a fun\, enriching way for little ones and their caregivers to start the day! Each session features a drop-in program designed especially for children under 5.
URL:https://www.wenhammuseum.org/event/moving-grooving/2025-07-24/
CATEGORIES:Children & Families,Preschool Programs
ATTACH;FMTTYPE=image/jpeg:https://www.wenhammuseum.org/wp-content/uploads/2025/06/Thursday-3.jpg
END:VEVENT
BEGIN:VEVENT
DTSTART;TZID=America/New_York:20250725T100000
DTEND;TZID=America/New_York:20250725T103000
DTSTAMP:20260421T184047
CREATED:20250625T202421Z
LAST-MODIFIED:20250625T202656Z
UID:10003479-1753437600-1753439400@www.wenhammuseum.org
SUMMARY:Music Time
DESCRIPTION:Sing\, clap\, and groove with musicians from Beverly Music Academy in this joyful\, play-based music program for young children. Each week features different songs\, rhythm games\, and musical stories designed to spark creativity and movement. \nFree with general museum admission • Ages 0–5 • No registration required \n________ \nThis event is part of Mornings at the Museum—a fun\, enriching way for little ones and their caregivers to start the day! Each session features a drop-in program designed especially for children under 5.
URL:https://www.wenhammuseum.org/event/stiches-stories-2-2/2025-07-25/
CATEGORIES:Children & Families,Preschool Programs
ATTACH;FMTTYPE=image/jpeg:https://www.wenhammuseum.org/wp-content/uploads/2025/05/Music-2.jpg
END:VEVENT
BEGIN:VEVENT
DTSTART;TZID=America/New_York:20250730T100000
DTEND;TZID=America/New_York:20250730T103000
DTSTAMP:20260421T184047
CREATED:20250508T162510Z
LAST-MODIFIED:20250728T171541Z
UID:10003583-1753869600-1753871400@www.wenhammuseum.org
SUMMARY:Mornings at the Museum
DESCRIPTION:Join us for Mornings at the Museum—a fun\, enriching way for little ones and their caregivers to start the day! Each session features a free drop-in program designed especially for children under 5. \nWe rotate weekly activities across these topics: \n🧵 Hands-On History & Play: Step into the past with interactive play inspired by real museum objects. \n🎨 Arts & Making: Hands-on crafts\, open-ended projects\, and sensory art activities. \n🎵 Movement & Music: Sing\, dance\, and play your way through rhythm and motion. \n📚 Literacy & Language: Build early literacy through stories\, rhymes\, and interactive reading fun. \n🔬 STEM & Discovery: Explore science\, nature\, and problem-solving through playful experiments. \nDiscover something new every week—and make memories that last a lifetime! Bring your little one to play\, learn\, and grow through joyful\, play-based museum fun! \nFree with general museum admission • Ages 0–5 • No registration required
URL:https://www.wenhammuseum.org/event/ballet-movement-2/2025-07-30/
CATEGORIES:Children & Families,Preschool Programs
ATTACH;FMTTYPE=image/jpeg:https://www.wenhammuseum.org/wp-content/uploads/2025/05/Mornings-at-the-Museum-2.jpg
END:VEVENT
BEGIN:VEVENT
DTSTART;TZID=America/New_York:20250731T080000
DTEND;TZID=America/New_York:20250731T170000
DTSTAMP:20260421T184047
CREATED:20250626T162638Z
LAST-MODIFIED:20250626T162638Z
UID:10003492-1753948800-1753981200@www.wenhammuseum.org
SUMMARY:Moving & Grooving
DESCRIPTION:Join High Street Studios at Wenham Museum for Moving and Grooving\, a 4-week music and movement class designed for children and their caregivers! Each 30-minute session is packed with fun activities that foster gross and fine motor skills\, explore concepts of space\, time\, and energy\, and enhance social skills in a nurturing environment. Through movement improvisation\, children are encouraged to express themselves freely. \nHere’s what we’ll be exploring each week: \n\nJuly 10: From Head to Toes! We’ll dive into the wonderful world of Eric Carle’s “From Head to Toes\,” moving our bodies just like the animals in the book!\nJuly 17: A Day at the Beach! Get ready for some seaside fun as we imagine a day at the beach through movement and music.\nJuly 24: Moving Like a Bubble! We’ll explore floating\, popping\, and drifting as we learn to move with the lightness and freedom of a bubble.\nJuly 31: Soaring Like a Bird! It’s time to take flight! We’ll stretch our wings and soar through imaginative movements inspired by birds.\n\nFree with general museum admission • Ages 0–5 • No registration required \n________ \nThis event is part of Mornings at the Museum—a fun\, enriching way for little ones and their caregivers to start the day! Each session features a drop-in program designed especially for children under 5.
URL:https://www.wenhammuseum.org/event/moving-grooving/2025-07-31/
CATEGORIES:Children & Families,Preschool Programs
ATTACH;FMTTYPE=image/jpeg:https://www.wenhammuseum.org/wp-content/uploads/2025/06/Thursday-3.jpg
END:VEVENT
END:VCALENDAR