BEGIN:VCALENDAR
VERSION:2.0
PRODID:-//Wenham Museum - ECPv6.15.20//NONSGML v1.0//EN
CALSCALE:GREGORIAN
METHOD:PUBLISH
X-ORIGINAL-URL:https://www.wenhammuseum.org
X-WR-CALDESC:Events for Wenham Museum
REFRESH-INTERVAL;VALUE=DURATION:PT1H
X-Robots-Tag:noindex
X-PUBLISHED-TTL:PT1H
BEGIN:VTIMEZONE
TZID:America/New_York
BEGIN:DAYLIGHT
TZOFFSETFROM:-0500
TZOFFSETTO:-0400
TZNAME:EDT
DTSTART:20250309T070000
END:DAYLIGHT
BEGIN:STANDARD
TZOFFSETFROM:-0400
TZOFFSETTO:-0500
TZNAME:EST
DTSTART:20251102T060000
END:STANDARD
BEGIN:DAYLIGHT
TZOFFSETFROM:-0500
TZOFFSETTO:-0400
TZNAME:EDT
DTSTART:20260308T070000
END:DAYLIGHT
BEGIN:STANDARD
TZOFFSETFROM:-0400
TZOFFSETTO:-0500
TZNAME:EST
DTSTART:20261101T060000
END:STANDARD
BEGIN:DAYLIGHT
TZOFFSETFROM:-0500
TZOFFSETTO:-0400
TZNAME:EDT
DTSTART:20270314T070000
END:DAYLIGHT
BEGIN:STANDARD
TZOFFSETFROM:-0400
TZOFFSETTO:-0500
TZNAME:EST
DTSTART:20271107T060000
END:STANDARD
END:VTIMEZONE
BEGIN:VEVENT
DTSTART;TZID=America/New_York:20260521T100000
DTEND;TZID=America/New_York:20260521T103000
DTSTAMP:20260421T205749
CREATED:20260421T214917Z
LAST-MODIFIED:20260421T215207Z
UID:10004471-1779357600-1779359400@www.wenhammuseum.org
SUMMARY:Mornings at the Museum
DESCRIPTION:Start your day with joy\, discovery\, and creativity at Mornings at the Museum—just for little ones and their grown-ups! \n🗓 Wednesdays\, Thursdays & Fridays at 10:00 AM\n🎟 Included with admission | Ages 0–5 | Registration not required \nLittle learners can drop in for:\n🎨 Wednesdays: Create & Craft\, led by Sunflower Creative Studio\n🎵 Thursdays: Signing & Singing with Wendy Manninen\n🤸‍♂️ Fridays: Dance & Movement\, led by BoSoma School of Dance \nDrop in with your little one to play\, learn\, and grow through joyful\, play-based fun!
URL:https://www.wenhammuseum.org/event/mornings-at-the-museum-4/2026-05-21/
CATEGORIES:Children & Families,Preschool Programs
ATTACH;FMTTYPE=image/jpeg:https://www.wenhammuseum.org/wp-content/uploads/2026/03/Mornings-at-the-Museum-1.jpg
END:VEVENT
BEGIN:VEVENT
DTSTART;TZID=America/New_York:20260522T100000
DTEND;TZID=America/New_York:20260522T103000
DTSTAMP:20260421T205749
CREATED:20260421T214917Z
LAST-MODIFIED:20260421T215207Z
UID:10004472-1779444000-1779445800@www.wenhammuseum.org
SUMMARY:Mornings at the Museum
DESCRIPTION:Start your day with joy\, discovery\, and creativity at Mornings at the Museum—just for little ones and their grown-ups! \n🗓 Wednesdays\, Thursdays & Fridays at 10:00 AM\n🎟 Included with admission | Ages 0–5 | Registration not required \nLittle learners can drop in for:\n🎨 Wednesdays: Create & Craft\, led by Sunflower Creative Studio\n🎵 Thursdays: Signing & Singing with Wendy Manninen\n🤸‍♂️ Fridays: Dance & Movement\, led by BoSoma School of Dance \nDrop in with your little one to play\, learn\, and grow through joyful\, play-based fun!
URL:https://www.wenhammuseum.org/event/mornings-at-the-museum-4/2026-05-22/
CATEGORIES:Children & Families,Preschool Programs
ATTACH;FMTTYPE=image/jpeg:https://www.wenhammuseum.org/wp-content/uploads/2026/03/Mornings-at-the-Museum-1.jpg
END:VEVENT
BEGIN:VEVENT
DTSTART;TZID=America/New_York:20260527T100000
DTEND;TZID=America/New_York:20260527T103000
DTSTAMP:20260421T205749
CREATED:20260421T214917Z
LAST-MODIFIED:20260421T215207Z
UID:10004473-1779876000-1779877800@www.wenhammuseum.org
SUMMARY:Mornings at the Museum
DESCRIPTION:Start your day with joy\, discovery\, and creativity at Mornings at the Museum—just for little ones and their grown-ups! \n🗓 Wednesdays\, Thursdays & Fridays at 10:00 AM\n🎟 Included with admission | Ages 0–5 | Registration not required \nLittle learners can drop in for:\n🎨 Wednesdays: Create & Craft\, led by Sunflower Creative Studio\n🎵 Thursdays: Signing & Singing with Wendy Manninen\n🤸‍♂️ Fridays: Dance & Movement\, led by BoSoma School of Dance \nDrop in with your little one to play\, learn\, and grow through joyful\, play-based fun!
URL:https://www.wenhammuseum.org/event/mornings-at-the-museum-4/2026-05-27/
CATEGORIES:Children & Families,Preschool Programs
ATTACH;FMTTYPE=image/jpeg:https://www.wenhammuseum.org/wp-content/uploads/2026/03/Mornings-at-the-Museum-1.jpg
END:VEVENT
BEGIN:VEVENT
DTSTART;TZID=America/New_York:20260528T100000
DTEND;TZID=America/New_York:20260528T103000
DTSTAMP:20260421T205749
CREATED:20260421T214917Z
LAST-MODIFIED:20260421T215207Z
UID:10004474-1779962400-1779964200@www.wenhammuseum.org
SUMMARY:Mornings at the Museum
DESCRIPTION:Start your day with joy\, discovery\, and creativity at Mornings at the Museum—just for little ones and their grown-ups! \n🗓 Wednesdays\, Thursdays & Fridays at 10:00 AM\n🎟 Included with admission | Ages 0–5 | Registration not required \nLittle learners can drop in for:\n🎨 Wednesdays: Create & Craft\, led by Sunflower Creative Studio\n🎵 Thursdays: Signing & Singing with Wendy Manninen\n🤸‍♂️ Fridays: Dance & Movement\, led by BoSoma School of Dance \nDrop in with your little one to play\, learn\, and grow through joyful\, play-based fun!
URL:https://www.wenhammuseum.org/event/mornings-at-the-museum-4/2026-05-28/
CATEGORIES:Children & Families,Preschool Programs
ATTACH;FMTTYPE=image/jpeg:https://www.wenhammuseum.org/wp-content/uploads/2026/03/Mornings-at-the-Museum-1.jpg
END:VEVENT
BEGIN:VEVENT
DTSTART;TZID=America/New_York:20260529T100000
DTEND;TZID=America/New_York:20260529T103000
DTSTAMP:20260421T205749
CREATED:20260421T214917Z
LAST-MODIFIED:20260421T215207Z
UID:10004475-1780048800-1780050600@www.wenhammuseum.org
SUMMARY:Mornings at the Museum
DESCRIPTION:Start your day with joy\, discovery\, and creativity at Mornings at the Museum—just for little ones and their grown-ups! \n🗓 Wednesdays\, Thursdays & Fridays at 10:00 AM\n🎟 Included with admission | Ages 0–5 | Registration not required \nLittle learners can drop in for:\n🎨 Wednesdays: Create & Craft\, led by Sunflower Creative Studio\n🎵 Thursdays: Signing & Singing with Wendy Manninen\n🤸‍♂️ Fridays: Dance & Movement\, led by BoSoma School of Dance \nDrop in with your little one to play\, learn\, and grow through joyful\, play-based fun!
URL:https://www.wenhammuseum.org/event/mornings-at-the-museum-4/2026-05-29/
CATEGORIES:Children & Families,Preschool Programs
ATTACH;FMTTYPE=image/jpeg:https://www.wenhammuseum.org/wp-content/uploads/2026/03/Mornings-at-the-Museum-1.jpg
END:VEVENT
BEGIN:VEVENT
DTSTART;TZID=America/New_York:20260603T100000
DTEND;TZID=America/New_York:20260603T103000
DTSTAMP:20260421T205749
CREATED:20260421T214917Z
LAST-MODIFIED:20260421T215207Z
UID:10004476-1780480800-1780482600@www.wenhammuseum.org
SUMMARY:Mornings at the Museum
DESCRIPTION:Start your day with joy\, discovery\, and creativity at Mornings at the Museum—just for little ones and their grown-ups! \n🗓 Wednesdays\, Thursdays & Fridays at 10:00 AM\n🎟 Included with admission | Ages 0–5 | Registration not required \nLittle learners can drop in for:\n🎨 Wednesdays: Create & Craft\, led by Sunflower Creative Studio\n🎵 Thursdays: Signing & Singing with Wendy Manninen\n🤸‍♂️ Fridays: Dance & Movement\, led by BoSoma School of Dance \nDrop in with your little one to play\, learn\, and grow through joyful\, play-based fun!
URL:https://www.wenhammuseum.org/event/mornings-at-the-museum-4/2026-06-03/
CATEGORIES:Children & Families,Preschool Programs
ATTACH;FMTTYPE=image/jpeg:https://www.wenhammuseum.org/wp-content/uploads/2026/03/Mornings-at-the-Museum-1.jpg
END:VEVENT
BEGIN:VEVENT
DTSTART;TZID=America/New_York:20260603T160000
DTEND;TZID=America/New_York:20260603T180000
DTSTAMP:20260421T205749
CREATED:20260105T171652Z
LAST-MODIFIED:20260105T171652Z
UID:10004277-1780502400-1780509600@www.wenhammuseum.org
SUMMARY:First Wednesdays
DESCRIPTION:We’re open late! \nVisit Wenham Museum on the first Wednesday of the month and enjoy extended evening hours and free admission from 4 to 6 PM!  Bring the whole family and explore our beloved model train gallery\, vintage toy collections\, and hands-on history exhibits after school or work. It’s a perfect midweek museum adventure!
URL:https://www.wenhammuseum.org/event/first-wednesdays/2026-06-03/
CATEGORIES:Community Events
ATTACH;FMTTYPE=image/png:https://www.wenhammuseum.org/wp-content/uploads/2025/07/First-Wednesdays-at-Wenham-Museum-FB-700-x-525-px-1.png
END:VEVENT
BEGIN:VEVENT
DTSTART;TZID=America/New_York:20260604T100000
DTEND;TZID=America/New_York:20260604T103000
DTSTAMP:20260421T205749
CREATED:20260421T214917Z
LAST-MODIFIED:20260421T215207Z
UID:10004477-1780567200-1780569000@www.wenhammuseum.org
SUMMARY:Mornings at the Museum
DESCRIPTION:Start your day with joy\, discovery\, and creativity at Mornings at the Museum—just for little ones and their grown-ups! \n🗓 Wednesdays\, Thursdays & Fridays at 10:00 AM\n🎟 Included with admission | Ages 0–5 | Registration not required \nLittle learners can drop in for:\n🎨 Wednesdays: Create & Craft\, led by Sunflower Creative Studio\n🎵 Thursdays: Signing & Singing with Wendy Manninen\n🤸‍♂️ Fridays: Dance & Movement\, led by BoSoma School of Dance \nDrop in with your little one to play\, learn\, and grow through joyful\, play-based fun!
URL:https://www.wenhammuseum.org/event/mornings-at-the-museum-4/2026-06-04/
CATEGORIES:Children & Families,Preschool Programs
ATTACH;FMTTYPE=image/jpeg:https://www.wenhammuseum.org/wp-content/uploads/2026/03/Mornings-at-the-Museum-1.jpg
END:VEVENT
BEGIN:VEVENT
DTSTART;TZID=America/New_York:20260605T100000
DTEND;TZID=America/New_York:20260605T103000
DTSTAMP:20260421T205749
CREATED:20260421T214917Z
LAST-MODIFIED:20260421T215207Z
UID:10004478-1780653600-1780655400@www.wenhammuseum.org
SUMMARY:Mornings at the Museum
DESCRIPTION:Start your day with joy\, discovery\, and creativity at Mornings at the Museum—just for little ones and their grown-ups! \n🗓 Wednesdays\, Thursdays & Fridays at 10:00 AM\n🎟 Included with admission | Ages 0–5 | Registration not required \nLittle learners can drop in for:\n🎨 Wednesdays: Create & Craft\, led by Sunflower Creative Studio\n🎵 Thursdays: Signing & Singing with Wendy Manninen\n🤸‍♂️ Fridays: Dance & Movement\, led by BoSoma School of Dance \nDrop in with your little one to play\, learn\, and grow through joyful\, play-based fun!
URL:https://www.wenhammuseum.org/event/mornings-at-the-museum-4/2026-06-05/
CATEGORIES:Children & Families,Preschool Programs
ATTACH;FMTTYPE=image/jpeg:https://www.wenhammuseum.org/wp-content/uploads/2026/03/Mornings-at-the-Museum-1.jpg
END:VEVENT
BEGIN:VEVENT
DTSTART;TZID=America/New_York:20260610T100000
DTEND;TZID=America/New_York:20260610T103000
DTSTAMP:20260421T205749
CREATED:20260421T214917Z
LAST-MODIFIED:20260421T215207Z
UID:10004479-1781085600-1781087400@www.wenhammuseum.org
SUMMARY:Mornings at the Museum
DESCRIPTION:Start your day with joy\, discovery\, and creativity at Mornings at the Museum—just for little ones and their grown-ups! \n🗓 Wednesdays\, Thursdays & Fridays at 10:00 AM\n🎟 Included with admission | Ages 0–5 | Registration not required \nLittle learners can drop in for:\n🎨 Wednesdays: Create & Craft\, led by Sunflower Creative Studio\n🎵 Thursdays: Signing & Singing with Wendy Manninen\n🤸‍♂️ Fridays: Dance & Movement\, led by BoSoma School of Dance \nDrop in with your little one to play\, learn\, and grow through joyful\, play-based fun!
URL:https://www.wenhammuseum.org/event/mornings-at-the-museum-4/2026-06-10/
CATEGORIES:Children & Families,Preschool Programs
ATTACH;FMTTYPE=image/jpeg:https://www.wenhammuseum.org/wp-content/uploads/2026/03/Mornings-at-the-Museum-1.jpg
END:VEVENT
BEGIN:VEVENT
DTSTART;TZID=America/New_York:20260611T100000
DTEND;TZID=America/New_York:20260611T103000
DTSTAMP:20260421T205749
CREATED:20260421T214917Z
LAST-MODIFIED:20260421T215207Z
UID:10004480-1781172000-1781173800@www.wenhammuseum.org
SUMMARY:Mornings at the Museum
DESCRIPTION:Start your day with joy\, discovery\, and creativity at Mornings at the Museum—just for little ones and their grown-ups! \n🗓 Wednesdays\, Thursdays & Fridays at 10:00 AM\n🎟 Included with admission | Ages 0–5 | Registration not required \nLittle learners can drop in for:\n🎨 Wednesdays: Create & Craft\, led by Sunflower Creative Studio\n🎵 Thursdays: Signing & Singing with Wendy Manninen\n🤸‍♂️ Fridays: Dance & Movement\, led by BoSoma School of Dance \nDrop in with your little one to play\, learn\, and grow through joyful\, play-based fun!
URL:https://www.wenhammuseum.org/event/mornings-at-the-museum-4/2026-06-11/
CATEGORIES:Children & Families,Preschool Programs
ATTACH;FMTTYPE=image/jpeg:https://www.wenhammuseum.org/wp-content/uploads/2026/03/Mornings-at-the-Museum-1.jpg
END:VEVENT
BEGIN:VEVENT
DTSTART;TZID=America/New_York:20260612T093000
DTEND;TZID=America/New_York:20260612T113000
DTSTAMP:20260421T205749
CREATED:20260323T150710Z
LAST-MODIFIED:20260323T150710Z
UID:10004434-1781256600-1781263800@www.wenhammuseum.org
SUMMARY:M is for Museum & P is for Playdate
DESCRIPTION:Join us the 2nd Friday of the month for our M is for Museum/P is for Playdate program!  Each month\, we read a story\, then do a related craft or activity. \nThese programs have been designed to address MA curriculum standards for Pre-K in Reading and Literature\, Science\, Personal and Social Development and Peer Relationships. \nPROGRAM DETAILS\n2nd Friday of the Month\n9:30 a.m. ages 18 months-2.9 years\n10:30 a.m. ages 2.9 years+\nIncluded with Admission\nFree for Members\nFree for Residents of Hamilton\, Wenham\, Manchester & Essex with advanced registration through Early Childhood Partners \n \nSponsored by Early Childhood Partners via Mass. Department of Early Education & Care and the Hamilton-Wenham Regional School District.
URL:https://www.wenhammuseum.org/event/m-is-for-museum-p-is-for-playdate-6/2026-06-12/
CATEGORIES:Children & Families,Preschool Programs
ATTACH;FMTTYPE=image/png:https://www.wenhammuseum.org/wp-content/uploads/2022/08/MIFM-Stock-Photo-700-x-525-1.png
END:VEVENT
BEGIN:VEVENT
DTSTART;TZID=America/New_York:20260617T100000
DTEND;TZID=America/New_York:20260617T103000
DTSTAMP:20260421T205749
CREATED:20260421T214917Z
LAST-MODIFIED:20260421T215207Z
UID:10004481-1781690400-1781692200@www.wenhammuseum.org
SUMMARY:Mornings at the Museum
DESCRIPTION:Start your day with joy\, discovery\, and creativity at Mornings at the Museum—just for little ones and their grown-ups! \n🗓 Wednesdays\, Thursdays & Fridays at 10:00 AM\n🎟 Included with admission | Ages 0–5 | Registration not required \nLittle learners can drop in for:\n🎨 Wednesdays: Create & Craft\, led by Sunflower Creative Studio\n🎵 Thursdays: Signing & Singing with Wendy Manninen\n🤸‍♂️ Fridays: Dance & Movement\, led by BoSoma School of Dance \nDrop in with your little one to play\, learn\, and grow through joyful\, play-based fun!
URL:https://www.wenhammuseum.org/event/mornings-at-the-museum-4/2026-06-17/
CATEGORIES:Children & Families,Preschool Programs
ATTACH;FMTTYPE=image/jpeg:https://www.wenhammuseum.org/wp-content/uploads/2026/03/Mornings-at-the-Museum-1.jpg
END:VEVENT
BEGIN:VEVENT
DTSTART;TZID=America/New_York:20260618T100000
DTEND;TZID=America/New_York:20260618T103000
DTSTAMP:20260421T205749
CREATED:20260421T214917Z
LAST-MODIFIED:20260421T215207Z
UID:10004482-1781776800-1781778600@www.wenhammuseum.org
SUMMARY:Mornings at the Museum
DESCRIPTION:Start your day with joy\, discovery\, and creativity at Mornings at the Museum—just for little ones and their grown-ups! \n🗓 Wednesdays\, Thursdays & Fridays at 10:00 AM\n🎟 Included with admission | Ages 0–5 | Registration not required \nLittle learners can drop in for:\n🎨 Wednesdays: Create & Craft\, led by Sunflower Creative Studio\n🎵 Thursdays: Signing & Singing with Wendy Manninen\n🤸‍♂️ Fridays: Dance & Movement\, led by BoSoma School of Dance \nDrop in with your little one to play\, learn\, and grow through joyful\, play-based fun!
URL:https://www.wenhammuseum.org/event/mornings-at-the-museum-4/2026-06-18/
CATEGORIES:Children & Families,Preschool Programs
ATTACH;FMTTYPE=image/jpeg:https://www.wenhammuseum.org/wp-content/uploads/2026/03/Mornings-at-the-Museum-1.jpg
END:VEVENT
BEGIN:VEVENT
DTSTART;TZID=America/New_York:20260619T100000
DTEND;TZID=America/New_York:20260619T103000
DTSTAMP:20260421T205749
CREATED:20260421T214917Z
LAST-MODIFIED:20260421T215207Z
UID:10004483-1781863200-1781865000@www.wenhammuseum.org
SUMMARY:Mornings at the Museum
DESCRIPTION:Start your day with joy\, discovery\, and creativity at Mornings at the Museum—just for little ones and their grown-ups! \n🗓 Wednesdays\, Thursdays & Fridays at 10:00 AM\n🎟 Included with admission | Ages 0–5 | Registration not required \nLittle learners can drop in for:\n🎨 Wednesdays: Create & Craft\, led by Sunflower Creative Studio\n🎵 Thursdays: Signing & Singing with Wendy Manninen\n🤸‍♂️ Fridays: Dance & Movement\, led by BoSoma School of Dance \nDrop in with your little one to play\, learn\, and grow through joyful\, play-based fun!
URL:https://www.wenhammuseum.org/event/mornings-at-the-museum-4/2026-06-19/
CATEGORIES:Children & Families,Preschool Programs
ATTACH;FMTTYPE=image/jpeg:https://www.wenhammuseum.org/wp-content/uploads/2026/03/Mornings-at-the-Museum-1.jpg
END:VEVENT
BEGIN:VEVENT
DTSTART;TZID=America/New_York:20260624T100000
DTEND;TZID=America/New_York:20260624T103000
DTSTAMP:20260421T205749
CREATED:20260421T214917Z
LAST-MODIFIED:20260421T215207Z
UID:10004484-1782295200-1782297000@www.wenhammuseum.org
SUMMARY:Mornings at the Museum
DESCRIPTION:Start your day with joy\, discovery\, and creativity at Mornings at the Museum—just for little ones and their grown-ups! \n🗓 Wednesdays\, Thursdays & Fridays at 10:00 AM\n🎟 Included with admission | Ages 0–5 | Registration not required \nLittle learners can drop in for:\n🎨 Wednesdays: Create & Craft\, led by Sunflower Creative Studio\n🎵 Thursdays: Signing & Singing with Wendy Manninen\n🤸‍♂️ Fridays: Dance & Movement\, led by BoSoma School of Dance \nDrop in with your little one to play\, learn\, and grow through joyful\, play-based fun!
URL:https://www.wenhammuseum.org/event/mornings-at-the-museum-4/2026-06-24/
CATEGORIES:Children & Families,Preschool Programs
ATTACH;FMTTYPE=image/jpeg:https://www.wenhammuseum.org/wp-content/uploads/2026/03/Mornings-at-the-Museum-1.jpg
END:VEVENT
BEGIN:VEVENT
DTSTART;TZID=America/New_York:20260625T100000
DTEND;TZID=America/New_York:20260625T103000
DTSTAMP:20260421T205749
CREATED:20260421T214917Z
LAST-MODIFIED:20260421T215207Z
UID:10004485-1782381600-1782383400@www.wenhammuseum.org
SUMMARY:Mornings at the Museum
DESCRIPTION:Start your day with joy\, discovery\, and creativity at Mornings at the Museum—just for little ones and their grown-ups! \n🗓 Wednesdays\, Thursdays & Fridays at 10:00 AM\n🎟 Included with admission | Ages 0–5 | Registration not required \nLittle learners can drop in for:\n🎨 Wednesdays: Create & Craft\, led by Sunflower Creative Studio\n🎵 Thursdays: Signing & Singing with Wendy Manninen\n🤸‍♂️ Fridays: Dance & Movement\, led by BoSoma School of Dance \nDrop in with your little one to play\, learn\, and grow through joyful\, play-based fun!
URL:https://www.wenhammuseum.org/event/mornings-at-the-museum-4/2026-06-25/
CATEGORIES:Children & Families,Preschool Programs
ATTACH;FMTTYPE=image/jpeg:https://www.wenhammuseum.org/wp-content/uploads/2026/03/Mornings-at-the-Museum-1.jpg
END:VEVENT
END:VCALENDAR