BEGIN:VCALENDAR
VERSION:2.0
PRODID:-//Wenham Museum - ECPv6.15.20//NONSGML v1.0//EN
CALSCALE:GREGORIAN
METHOD:PUBLISH
X-WR-CALNAME:Wenham Museum
X-ORIGINAL-URL:https://www.wenhammuseum.org
X-WR-CALDESC:Events for Wenham Museum
REFRESH-INTERVAL;VALUE=DURATION:PT1H
X-Robots-Tag:noindex
X-PUBLISHED-TTL:PT1H
BEGIN:VTIMEZONE
TZID:America/New_York
BEGIN:DAYLIGHT
TZOFFSETFROM:-0500
TZOFFSETTO:-0400
TZNAME:EDT
DTSTART:20140309T070000
END:DAYLIGHT
BEGIN:STANDARD
TZOFFSETFROM:-0400
TZOFFSETTO:-0500
TZNAME:EST
DTSTART:20141102T060000
END:STANDARD
BEGIN:DAYLIGHT
TZOFFSETFROM:-0500
TZOFFSETTO:-0400
TZNAME:EDT
DTSTART:20150308T070000
END:DAYLIGHT
BEGIN:STANDARD
TZOFFSETFROM:-0400
TZOFFSETTO:-0500
TZNAME:EST
DTSTART:20151101T060000
END:STANDARD
BEGIN:DAYLIGHT
TZOFFSETFROM:-0500
TZOFFSETTO:-0400
TZNAME:EDT
DTSTART:20160313T070000
END:DAYLIGHT
BEGIN:STANDARD
TZOFFSETFROM:-0400
TZOFFSETTO:-0500
TZNAME:EST
DTSTART:20161106T060000
END:STANDARD
BEGIN:DAYLIGHT
TZOFFSETFROM:-0500
TZOFFSETTO:-0400
TZNAME:EDT
DTSTART:20170312T070000
END:DAYLIGHT
BEGIN:STANDARD
TZOFFSETFROM:-0400
TZOFFSETTO:-0500
TZNAME:EST
DTSTART:20171105T060000
END:STANDARD
BEGIN:DAYLIGHT
TZOFFSETFROM:-0500
TZOFFSETTO:-0400
TZNAME:EDT
DTSTART:20180311T070000
END:DAYLIGHT
BEGIN:STANDARD
TZOFFSETFROM:-0400
TZOFFSETTO:-0500
TZNAME:EST
DTSTART:20181104T060000
END:STANDARD
BEGIN:DAYLIGHT
TZOFFSETFROM:-0500
TZOFFSETTO:-0400
TZNAME:EDT
DTSTART:20190310T070000
END:DAYLIGHT
BEGIN:STANDARD
TZOFFSETFROM:-0400
TZOFFSETTO:-0500
TZNAME:EST
DTSTART:20191103T060000
END:STANDARD
BEGIN:DAYLIGHT
TZOFFSETFROM:-0500
TZOFFSETTO:-0400
TZNAME:EDT
DTSTART:20200308T070000
END:DAYLIGHT
BEGIN:STANDARD
TZOFFSETFROM:-0400
TZOFFSETTO:-0500
TZNAME:EST
DTSTART:20201101T060000
END:STANDARD
BEGIN:DAYLIGHT
TZOFFSETFROM:-0500
TZOFFSETTO:-0400
TZNAME:EDT
DTSTART:20210314T070000
END:DAYLIGHT
BEGIN:STANDARD
TZOFFSETFROM:-0400
TZOFFSETTO:-0500
TZNAME:EST
DTSTART:20211107T060000
END:STANDARD
BEGIN:DAYLIGHT
TZOFFSETFROM:-0500
TZOFFSETTO:-0400
TZNAME:EDT
DTSTART:20220313T070000
END:DAYLIGHT
BEGIN:STANDARD
TZOFFSETFROM:-0400
TZOFFSETTO:-0500
TZNAME:EST
DTSTART:20221106T060000
END:STANDARD
END:VTIMEZONE
BEGIN:VEVENT
DTSTART;TZID=America/New_York:20210922T100000
DTEND;TZID=America/New_York:20210922T120000
DTSTAMP:20260425T150543
CREATED:20211112T202713Z
LAST-MODIFIED:20211112T202713Z
UID:10000062-1632304800-1632312000@www.wenhammuseum.org
SUMMARY:Drop-In Art Making
DESCRIPTION:Join us for drop-in art making and crafting in the Museum Lobby! Each week\, a different project inspired by our current exhibitions or the season will be featured. \nNo pre-registration is required for these activities. They are included with admission and free for Members.
URL:https://www.wenhammuseum.org/event/drop-in-art-making/2021-09-22/
CATEGORIES:Children & Families,Preschool Programs
ATTACH;FMTTYPE=image/png:https://www.wenhammuseum.org/wp-content/uploads/2021/11/Drop-In-700-x-525.png
END:VEVENT
BEGIN:VEVENT
DTSTART;TZID=America/New_York:20210921T100000
DTEND;TZID=America/New_York:20210921T120000
DTSTAMP:20260425T150543
CREATED:20211112T202713Z
LAST-MODIFIED:20211112T202713Z
UID:10000061-1632218400-1632225600@www.wenhammuseum.org
SUMMARY:Drop-In Art Making
DESCRIPTION:Join us for drop-in art making and crafting in the Museum Lobby! Each week\, a different project inspired by our current exhibitions or the season will be featured. \nNo pre-registration is required for these activities. They are included with admission and free for Members.
URL:https://www.wenhammuseum.org/event/drop-in-art-making/2021-09-21/
CATEGORIES:Children & Families,Preschool Programs
ATTACH;FMTTYPE=image/png:https://www.wenhammuseum.org/wp-content/uploads/2021/11/Drop-In-700-x-525.png
END:VEVENT
BEGIN:VEVENT
DTSTART;TZID=America/New_York:20180323T160000
DTEND;TZID=America/New_York:20180323T200000
DTSTAMP:20260425T150543
CREATED:20220202T201402Z
LAST-MODIFIED:20220202T201402Z
UID:10000141-1521820800-1521835200@www.wenhammuseum.org
SUMMARY:95TH BIRTHDAY PARTY
DESCRIPTION:Celebrate the Wenham Museum’s 95th Birthday! \nThe party may be over\, but we are still celebrating our birthday! Make donation or check out our gift wish list in honor of our 95th birthday.  \nThank you to all of you who came to the party\, and those of you who have made a donation!  The museum truly appreciates your support! \nGive a Birthday Present\n\nDid you know that the Wenham Museum is a nonprofit that is largely funded by donations?  The museum does not receive support from the Town of Wenham.  Admission and membership fees cover only 20% of the cost of museum exhibits\, activities\, and more.  We need your donation today to keep the trains running for another 95 years! \nEvent Partners\nThe Community House\nCreatively Unique Party Designs\nFlynntastic Faces\nHamilton-Wenham Mother’s Club\nPrince Pizzeria\nTracey Westgate Photography
URL:https://www.wenhammuseum.org/event/95th-birthday-party/
END:VEVENT
BEGIN:VEVENT
DTSTART;TZID=America/New_York:20151022T180000
DTEND;TZID=America/New_York:20151022T210000
DTSTAMP:20260425T150543
CREATED:20220202T193116Z
LAST-MODIFIED:20220202T193116Z
UID:10000138-1445536800-1445547600@www.wenhammuseum.org
SUMMARY:DINNER IN HONOR OF NANCY SCHÖN
DESCRIPTION:Please join us for a wonderful dinner in honor of sculptor Nancy Schön.  Nancy has created amazing pieces of art that generate positive emotional responses while simultaneously sharing meaningful life lessons.  She is dedicated to creating art that is totally interactive for children.  Her sculptures are available to touch\, sit on\, hug and interact with every day of the year\, day or night.  Inspired by children’s stories\, fables\, and her own written stories\, Nancy’s sculpture connects children with important learning with a lasting impact.  We hope friends of the arts and education will make a reservation today for this terrific night.  Guests and Nancy will share insights about the artist’s work.  Don’t miss this special night recognizing the art of a sculptor who has created some of the most iconic pieces of public art in America and support the Wenham Museum at the same time!
URL:https://www.wenhammuseum.org/event/dinner-in-honor-of-nancy-schon/
CATEGORIES:Community Events
END:VEVENT
END:VCALENDAR