BEGIN:VCALENDAR
VERSION:2.0
PRODID:-//Wenham Museum - ECPv6.15.20//NONSGML v1.0//EN
CALSCALE:GREGORIAN
METHOD:PUBLISH
X-ORIGINAL-URL:https://www.wenhammuseum.org
X-WR-CALDESC:Events for Wenham Museum
REFRESH-INTERVAL;VALUE=DURATION:PT1H
X-Robots-Tag:noindex
X-PUBLISHED-TTL:PT1H
BEGIN:VTIMEZONE
TZID:America/New_York
BEGIN:DAYLIGHT
TZOFFSETFROM:-0500
TZOFFSETTO:-0400
TZNAME:EDT
DTSTART:20250309T070000
END:DAYLIGHT
BEGIN:STANDARD
TZOFFSETFROM:-0400
TZOFFSETTO:-0500
TZNAME:EST
DTSTART:20251102T060000
END:STANDARD
BEGIN:DAYLIGHT
TZOFFSETFROM:-0500
TZOFFSETTO:-0400
TZNAME:EDT
DTSTART:20260308T070000
END:DAYLIGHT
BEGIN:STANDARD
TZOFFSETFROM:-0400
TZOFFSETTO:-0500
TZNAME:EST
DTSTART:20261101T060000
END:STANDARD
BEGIN:DAYLIGHT
TZOFFSETFROM:-0500
TZOFFSETTO:-0400
TZNAME:EDT
DTSTART:20270314T070000
END:DAYLIGHT
BEGIN:STANDARD
TZOFFSETFROM:-0400
TZOFFSETTO:-0500
TZNAME:EST
DTSTART:20271107T060000
END:STANDARD
END:VTIMEZONE
BEGIN:VEVENT
DTSTART;TZID=America/New_York:20260425T173000
DTEND;TZID=America/New_York:20260425T220000
DTSTAMP:20260421T133827
CREATED:20260309T144235Z
LAST-MODIFIED:20260421T152134Z
UID:10004401-1777138200-1777154400@www.wenhammuseum.org
SUMMARY:Barrence Whitfield & His All Star Band - SOLD OUT
DESCRIPTION:A Wenham Museum Fundraiser with Barrence Whitfield and his All-Star Band\nLive at Wenham Museum\n \nGet ready for an unforgettable night of high-energy soul and rock with Boston music legend Barrence Whitfield. \nA longtime fixture of the Boston music scene and a Beverly resident\, Whitfield is known for his electrifying performances and powerhouse voice\, often compared to legends like Little Richard\, Solomon Burke\, and Wilson Pickett. He has shared the stage with artists including Tina Turner\, Robert Cray\, George Thorogood\, and Los Lobos\, and has earned seven Boston Music Awards. \nWhitfield will be joined by an all-star lineup: Seth Pappas (drums)\, Sal Baglio (guitar\, vocals)\, Jeff Giacomelli (saxophone)\, and Wolf Ginandes (bass). \nDetails\nDoors open: 5:30 p.m.\nConcert: 6–8 p.m. (with intermission)\nAfter the show\, guests are invited to explore the Museum’s galleries from 8-10 p.m.\nCash bar available \nAge 21+ \nJoin us for a memorable evening of live music in support of Wenham Museum. \nTickets for this show are sold out. \nEvery ticket purchased helps Wenham Museum inspire generations of children and families to learn\, play\, and discover. \nParking: Free public parking is available in the museum lot and adjacent upper lot\, with additional street parking nearby on Friend Court and across the street by the Tea House Playground. \n  \n\nWe are grateful to our sponsors for their generous support. \n  \n \n\n 
URL:https://www.wenhammuseum.org/event/barrence-whitfield-his-all-star-band/
CATEGORIES:Adult Program,Fundraiser
ATTACH;FMTTYPE=image/jpeg:https://www.wenhammuseum.org/wp-content/uploads/2026/03/Barrence-Whitfield-Apr2025-700-x-525-px.jpg
END:VEVENT
BEGIN:VEVENT
DTSTART;TZID=America/New_York:20260429T100000
DTEND;TZID=America/New_York:20260429T103000
DTSTAMP:20260421T133827
CREATED:20260323T145335Z
LAST-MODIFIED:20260323T145335Z
UID:10004409-1777456800-1777458600@www.wenhammuseum.org
SUMMARY:Crafty Kids
DESCRIPTION:Join us for Crafty Kids\, a creative morning activity designed for little hands and big imaginations! Children and their caregivers will explore materials\, practice fine motor skills\, and enjoy the fun of creating something all their own. \nIncluded with general museum admission • Ages 0–5 • No registration required \n________ \nThis event is part of Mornings at the Museum—a fun\, enriching way for little ones and their caregivers to start the day! Each session features a drop-in program designed especially for children under 5.
URL:https://www.wenhammuseum.org/event/crafty-kids-2/2026-04-29/
CATEGORIES:Children & Families,Preschool Programs
ATTACH;FMTTYPE=image/jpeg:https://www.wenhammuseum.org/wp-content/uploads/2026/02/Mornings-at-the-Museum.jpg
END:VEVENT
BEGIN:VEVENT
DTSTART;TZID=America/New_York:20260430T100000
DTEND;TZID=America/New_York:20260430T103000
DTSTAMP:20260421T133827
CREATED:20260323T150130Z
LAST-MODIFIED:20260323T150130Z
UID:10004428-1777543200-1777545000@www.wenhammuseum.org
SUMMARY:Arts & Making
DESCRIPTION:Get creative with Art’s Cool! Join us for hands-on crafts\, open-ended projects\, and  sensory art fun. Kids can let their imaginations run wild while building fine motor skills and expressing themselves through art. \nFree with general museum admission • Ages 0–5 • No registration required \n________ \nThis event is part of Mornings at the Museum—a fun\, enriching way for little ones and their caregivers to start the day! Each session features a drop-in program designed especially for children under 5.
URL:https://www.wenhammuseum.org/event/arts-making-5/2026-04-30/
CATEGORIES:Children & Families,Preschool Programs
ATTACH;FMTTYPE=image/jpeg:https://www.wenhammuseum.org/wp-content/uploads/2025/11/Mornings-at-the-Museum-5.jpg
END:VEVENT
BEGIN:VEVENT
DTSTART;TZID=America/New_York:20260506T160000
DTEND;TZID=America/New_York:20260506T180000
DTSTAMP:20260421T133827
CREATED:20260105T171652Z
LAST-MODIFIED:20260105T171652Z
UID:10004276-1778083200-1778090400@www.wenhammuseum.org
SUMMARY:First Wednesdays
DESCRIPTION:We’re open late! \nVisit Wenham Museum on the first Wednesday of the month and enjoy extended evening hours and free admission from 4 to 6 PM!  Bring the whole family and explore our beloved model train gallery\, vintage toy collections\, and hands-on history exhibits after school or work. It’s a perfect midweek museum adventure!
URL:https://www.wenhammuseum.org/event/first-wednesdays/2026-05-06/
CATEGORIES:Community Events
ATTACH;FMTTYPE=image/png:https://www.wenhammuseum.org/wp-content/uploads/2025/07/First-Wednesdays-at-Wenham-Museum-FB-700-x-525-px-1.png
END:VEVENT
BEGIN:VEVENT
DTSTART;TZID=America/New_York:20260508T093000
DTEND;TZID=America/New_York:20260508T113000
DTSTAMP:20260421T133827
CREATED:20260323T150710Z
LAST-MODIFIED:20260323T150710Z
UID:10004433-1778232600-1778239800@www.wenhammuseum.org
SUMMARY:M is for Museum & P is for Playdate
DESCRIPTION:Join us the 2nd Friday of the month for our M is for Museum/P is for Playdate program!  Each month\, we read a story\, then do a related craft or activity. \nThese programs have been designed to address MA curriculum standards for Pre-K in Reading and Literature\, Science\, Personal and Social Development and Peer Relationships. \nPROGRAM DETAILS\n2nd Friday of the Month\n9:30 a.m. ages 18 months-2.9 years\n10:30 a.m. ages 2.9 years+\nIncluded with Admission\nFree for Members\nFree for Residents of Hamilton\, Wenham\, Manchester & Essex with advanced registration through Early Childhood Partners \n \nSponsored by Early Childhood Partners via Mass. Department of Early Education & Care and the Hamilton-Wenham Regional School District.
URL:https://www.wenhammuseum.org/event/m-is-for-museum-p-is-for-playdate-6/2026-05-08/
CATEGORIES:Children & Families,Preschool Programs
ATTACH;FMTTYPE=image/png:https://www.wenhammuseum.org/wp-content/uploads/2022/08/MIFM-Stock-Photo-700-x-525-1.png
END:VEVENT
BEGIN:VEVENT
DTSTART;TZID=America/New_York:20260603T160000
DTEND;TZID=America/New_York:20260603T180000
DTSTAMP:20260421T133827
CREATED:20260105T171652Z
LAST-MODIFIED:20260105T171652Z
UID:10004277-1780502400-1780509600@www.wenhammuseum.org
SUMMARY:First Wednesdays
DESCRIPTION:We’re open late! \nVisit Wenham Museum on the first Wednesday of the month and enjoy extended evening hours and free admission from 4 to 6 PM!  Bring the whole family and explore our beloved model train gallery\, vintage toy collections\, and hands-on history exhibits after school or work. It’s a perfect midweek museum adventure!
URL:https://www.wenhammuseum.org/event/first-wednesdays/2026-06-03/
CATEGORIES:Community Events
ATTACH;FMTTYPE=image/png:https://www.wenhammuseum.org/wp-content/uploads/2025/07/First-Wednesdays-at-Wenham-Museum-FB-700-x-525-px-1.png
END:VEVENT
BEGIN:VEVENT
DTSTART;TZID=America/New_York:20260612T093000
DTEND;TZID=America/New_York:20260612T113000
DTSTAMP:20260421T133827
CREATED:20260323T150710Z
LAST-MODIFIED:20260323T150710Z
UID:10004434-1781256600-1781263800@www.wenhammuseum.org
SUMMARY:M is for Museum & P is for Playdate
DESCRIPTION:Join us the 2nd Friday of the month for our M is for Museum/P is for Playdate program!  Each month\, we read a story\, then do a related craft or activity. \nThese programs have been designed to address MA curriculum standards for Pre-K in Reading and Literature\, Science\, Personal and Social Development and Peer Relationships. \nPROGRAM DETAILS\n2nd Friday of the Month\n9:30 a.m. ages 18 months-2.9 years\n10:30 a.m. ages 2.9 years+\nIncluded with Admission\nFree for Members\nFree for Residents of Hamilton\, Wenham\, Manchester & Essex with advanced registration through Early Childhood Partners \n \nSponsored by Early Childhood Partners via Mass. Department of Early Education & Care and the Hamilton-Wenham Regional School District.
URL:https://www.wenhammuseum.org/event/m-is-for-museum-p-is-for-playdate-6/2026-06-12/
CATEGORIES:Children & Families,Preschool Programs
ATTACH;FMTTYPE=image/png:https://www.wenhammuseum.org/wp-content/uploads/2022/08/MIFM-Stock-Photo-700-x-525-1.png
END:VEVENT
END:VCALENDAR