BEGIN:VCALENDAR
VERSION:2.0
PRODID:-//Wenham Museum - ECPv6.15.20//NONSGML v1.0//EN
CALSCALE:GREGORIAN
METHOD:PUBLISH
X-WR-CALNAME:Wenham Museum
X-ORIGINAL-URL:https://www.wenhammuseum.org
X-WR-CALDESC:Events for Wenham Museum
REFRESH-INTERVAL;VALUE=DURATION:PT1H
X-Robots-Tag:noindex
X-PUBLISHED-TTL:PT1H
BEGIN:VTIMEZONE
TZID:America/New_York
BEGIN:DAYLIGHT
TZOFFSETFROM:-0500
TZOFFSETTO:-0400
TZNAME:EDT
DTSTART:20250309T070000
END:DAYLIGHT
BEGIN:STANDARD
TZOFFSETFROM:-0400
TZOFFSETTO:-0500
TZNAME:EST
DTSTART:20251102T060000
END:STANDARD
BEGIN:DAYLIGHT
TZOFFSETFROM:-0500
TZOFFSETTO:-0400
TZNAME:EDT
DTSTART:20260308T070000
END:DAYLIGHT
BEGIN:STANDARD
TZOFFSETFROM:-0400
TZOFFSETTO:-0500
TZNAME:EST
DTSTART:20261101T060000
END:STANDARD
BEGIN:DAYLIGHT
TZOFFSETFROM:-0500
TZOFFSETTO:-0400
TZNAME:EDT
DTSTART:20270314T070000
END:DAYLIGHT
BEGIN:STANDARD
TZOFFSETFROM:-0400
TZOFFSETTO:-0500
TZNAME:EST
DTSTART:20271107T060000
END:STANDARD
END:VTIMEZONE
BEGIN:VEVENT
DTSTART;TZID=America/New_York:20260425T173000
DTEND;TZID=America/New_York:20260425T220000
DTSTAMP:20260423T072439
CREATED:20260309T144235Z
LAST-MODIFIED:20260421T152134Z
UID:10004401-1777138200-1777154400@www.wenhammuseum.org
SUMMARY:Barrence Whitfield & His All Star Band - SOLD OUT
DESCRIPTION:A Wenham Museum Fundraiser with Barrence Whitfield and his All-Star Band\nLive at Wenham Museum\n \nGet ready for an unforgettable night of high-energy soul and rock with Boston music legend Barrence Whitfield. \nA longtime fixture of the Boston music scene and a Beverly resident\, Whitfield is known for his electrifying performances and powerhouse voice\, often compared to legends like Little Richard\, Solomon Burke\, and Wilson Pickett. He has shared the stage with artists including Tina Turner\, Robert Cray\, George Thorogood\, and Los Lobos\, and has earned seven Boston Music Awards. \nWhitfield will be joined by an all-star lineup: Seth Pappas (drums)\, Sal Baglio (guitar\, vocals)\, Jeff Giacomelli (saxophone)\, and Wolf Ginandes (bass). \nDetails\nDoors open: 5:30 p.m.\nConcert: 6–8 p.m. (with intermission)\nAfter the show\, guests are invited to explore the Museum’s galleries from 8-10 p.m.\nCash bar available \nAge 21+ \nJoin us for a memorable evening of live music in support of Wenham Museum. \nTickets for this show are sold out. \nEvery ticket purchased helps Wenham Museum inspire generations of children and families to learn\, play\, and discover. \nParking: Free public parking is available in the museum lot and adjacent upper lot\, with additional street parking nearby on Friend Court and across the street by the Tea House Playground. \n  \n\nWe are grateful to our sponsors for their generous support. \n  \n \n\n 
URL:https://www.wenhammuseum.org/event/barrence-whitfield-his-all-star-band/
CATEGORIES:Adult Program,Fundraiser
ATTACH;FMTTYPE=image/jpeg:https://www.wenhammuseum.org/wp-content/uploads/2026/03/Barrence-Whitfield-Apr2025-700-x-525-px.jpg
END:VEVENT
END:VCALENDAR