BEGIN:VCALENDAR
VERSION:2.0
PRODID:-//Wenham Museum - ECPv6.15.20//NONSGML v1.0//EN
CALSCALE:GREGORIAN
METHOD:PUBLISH
X-ORIGINAL-URL:https://www.wenhammuseum.org
X-WR-CALDESC:Events for Wenham Museum
REFRESH-INTERVAL;VALUE=DURATION:PT1H
X-Robots-Tag:noindex
X-PUBLISHED-TTL:PT1H
BEGIN:VTIMEZONE
TZID:America/New_York
BEGIN:DAYLIGHT
TZOFFSETFROM:-0500
TZOFFSETTO:-0400
TZNAME:EDT
DTSTART:20240310T070000
END:DAYLIGHT
BEGIN:STANDARD
TZOFFSETFROM:-0400
TZOFFSETTO:-0500
TZNAME:EST
DTSTART:20241103T060000
END:STANDARD
BEGIN:DAYLIGHT
TZOFFSETFROM:-0500
TZOFFSETTO:-0400
TZNAME:EDT
DTSTART:20250309T070000
END:DAYLIGHT
BEGIN:STANDARD
TZOFFSETFROM:-0400
TZOFFSETTO:-0500
TZNAME:EST
DTSTART:20251102T060000
END:STANDARD
BEGIN:DAYLIGHT
TZOFFSETFROM:-0500
TZOFFSETTO:-0400
TZNAME:EDT
DTSTART:20260308T070000
END:DAYLIGHT
BEGIN:STANDARD
TZOFFSETFROM:-0400
TZOFFSETTO:-0500
TZNAME:EST
DTSTART:20261101T060000
END:STANDARD
END:VTIMEZONE
BEGIN:VEVENT
DTSTART;TZID=America/New_York:20251020T080000
DTEND;TZID=America/New_York:20251231T230000
DTSTAMP:20260423T141720
CREATED:20251020T152533Z
LAST-MODIFIED:20251020T152533Z
UID:10003633-1760947200-1767222000@www.wenhammuseum.org
SUMMARY:Make an Impact
DESCRIPTION:Help Preserve Our Stories for the Next Generation \nEvery object\, photograph\, and story in Wenham Museum holds a piece of our shared history. From the beloved model train gallery to the historic dolls\, textiles\, and photographs in our collection\, each object tells a story that connects us to the past.  \nWith your support\, we can continue preserving these treasures — and the stories they tell — so that future generations can learn\, imagine\, and be inspired.  \nWhy Your Gift Matters \n\nFor Children: Open a window into the past that sparks curiosity\, imagination\, and a love of learning. \n\n\nFor Families: Support meaningful\, hands-on experiences that celebrate our New England traditions \n\n\nFor the Community: Preserve the cultural treasures and heritage that connect generations and keep history alive. \n\nMake your gift now to help us care for our collections\, support exhibitions and educational programs\, and ensure the museum remains a vibrant resource for generations to come.  \nJoin Us in Preserving History \nTogether\, we can preserve our stories and inspire generations. Every gift makes a difference. 
URL:https://www.wenhammuseum.org/event/make-an-impact/
CATEGORIES:Fundraiser
ATTACH;FMTTYPE=image/png:https://www.wenhammuseum.org/wp-content/uploads/2025/10/Annual-Fund-2025-Year-End-700-x-525-px.png
END:VEVENT
END:VCALENDAR