BEGIN:VCALENDAR
VERSION:2.0
PRODID:-//Wenham Museum - ECPv6.15.20//NONSGML v1.0//EN
CALSCALE:GREGORIAN
METHOD:PUBLISH
X-ORIGINAL-URL:https://www.wenhammuseum.org
X-WR-CALDESC:Events for Wenham Museum
REFRESH-INTERVAL;VALUE=DURATION:PT1H
X-Robots-Tag:noindex
X-PUBLISHED-TTL:PT1H
BEGIN:VTIMEZONE
TZID:America/New_York
BEGIN:DAYLIGHT
TZOFFSETFROM:-0500
TZOFFSETTO:-0400
TZNAME:EDT
DTSTART:20240310T070000
END:DAYLIGHT
BEGIN:STANDARD
TZOFFSETFROM:-0400
TZOFFSETTO:-0500
TZNAME:EST
DTSTART:20241103T060000
END:STANDARD
BEGIN:DAYLIGHT
TZOFFSETFROM:-0500
TZOFFSETTO:-0400
TZNAME:EDT
DTSTART:20250309T070000
END:DAYLIGHT
BEGIN:STANDARD
TZOFFSETFROM:-0400
TZOFFSETTO:-0500
TZNAME:EST
DTSTART:20251102T060000
END:STANDARD
BEGIN:DAYLIGHT
TZOFFSETFROM:-0500
TZOFFSETTO:-0400
TZNAME:EDT
DTSTART:20260308T070000
END:DAYLIGHT
BEGIN:STANDARD
TZOFFSETFROM:-0400
TZOFFSETTO:-0500
TZNAME:EST
DTSTART:20261101T060000
END:STANDARD
END:VTIMEZONE
BEGIN:VEVENT
DTSTART;VALUE=DATE:20250814
DTEND;VALUE=DATE:20250908
DTSTAMP:20260423T163547
CREATED:20250814T203211Z
LAST-MODIFIED:20250814T203838Z
UID:10003587-1755129600-1757289599@www.wenhammuseum.org
SUMMARY:Grandparents Day Raffle
DESCRIPTION:Enter our Grandparents Day Raffle to celebrate family\, fun\, and the joy of the ride — and you could ride away a winner! \n🎟  Tickets available now at the Wenham Museum and online here >>\n💛 Every entry supports the museum! \nGet your tickets today for a chance to take home this $430 adventure-ready bundle: \n\nAdult-size Comfort bicycle with 28″ tires\, plus a rear bike rack and basket — perfect for adventures big and small!\nJoyride — a touching picture book about a grandfather and granddaughter transforming a bike together and making memories.\nA bundle of grandparent-themed books perfect for sharing across generations.\nWenham Museum swag – including our signature hat to wear on your next outing.\n\nWhether you’re a grandparent\, a grandchild\, or simply love the magic of shared memories\, this raffle is the perfect way to honor the bonds that make life special while supporting the Wenham Museum. \n🎉 Winner will be announced at our Grandparents Day Festival on Sunday\, September 7th — you don’t need to be present to win! 🎉 \nSpecial thanks to Beverly Bikes for their generous donation of this beautiful bicycle! \n(Winner must arrange prize pick-up from Wenham Museum\, 132 Main St.\, Wenham\, MA)
URL:https://www.wenhammuseum.org/event/grandparents-day-raffle/
CATEGORIES:Fundraiser
ATTACH;FMTTYPE=image/jpeg:https://www.wenhammuseum.org/wp-content/uploads/2025/08/Grandparents-Day-Bike-Raffle-700-x-525-px.jpg
END:VEVENT
END:VCALENDAR