BEGIN:VCALENDAR
VERSION:2.0
PRODID:-//Wenham Museum - ECPv6.15.20//NONSGML v1.0//EN
CALSCALE:GREGORIAN
METHOD:PUBLISH
X-WR-CALNAME:Wenham Museum
X-ORIGINAL-URL:https://www.wenhammuseum.org
X-WR-CALDESC:Events for Wenham Museum
REFRESH-INTERVAL;VALUE=DURATION:PT1H
X-Robots-Tag:noindex
X-PUBLISHED-TTL:PT1H
BEGIN:VTIMEZONE
TZID:America/New_York
BEGIN:DAYLIGHT
TZOFFSETFROM:-0500
TZOFFSETTO:-0400
TZNAME:EDT
DTSTART:20240310T070000
END:DAYLIGHT
BEGIN:STANDARD
TZOFFSETFROM:-0400
TZOFFSETTO:-0500
TZNAME:EST
DTSTART:20241103T060000
END:STANDARD
BEGIN:DAYLIGHT
TZOFFSETFROM:-0500
TZOFFSETTO:-0400
TZNAME:EDT
DTSTART:20250309T070000
END:DAYLIGHT
BEGIN:STANDARD
TZOFFSETFROM:-0400
TZOFFSETTO:-0500
TZNAME:EST
DTSTART:20251102T060000
END:STANDARD
BEGIN:DAYLIGHT
TZOFFSETFROM:-0500
TZOFFSETTO:-0400
TZNAME:EDT
DTSTART:20260308T070000
END:DAYLIGHT
BEGIN:STANDARD
TZOFFSETFROM:-0400
TZOFFSETTO:-0500
TZNAME:EST
DTSTART:20261101T060000
END:STANDARD
END:VTIMEZONE
BEGIN:VEVENT
DTSTART;VALUE=DATE:20250201
DTEND;VALUE=DATE:20250202
DTSTAMP:20260424T011048
CREATED:20241211T174134Z
LAST-MODIFIED:20250213T142948Z
UID:10003241-1738368000-1738454399@www.wenhammuseum.org
SUMMARY:Spring & Summer Sports Sale - Donate Now!
DESCRIPTION:Now accepting donations for Wenham Museum’s second-ever spring and summer sports sale! Donate your gently used sports equipment for sale to benefit the Wenham Museum and shop for your youth sports and outdoor recreation needs for the spring and summer season. \nDrop-Off Dates & Times\nDonations will be accepted during museum hours\, starting February 1\, 2025. \nMUSEUM HOURS\nSunday\, 12:00 p.m. – 4:00 p.m.\nMonday\, CLOSED\nTuesday\, 10:00 a.m. – 4:00 p.m.\nWednesday\, 10:00 a.m. – 4:00 p.m.\nThursday\, 10:00 a.m. – 4:00 p.m.\nFriday\, 10:00 a.m. – 4:00 p.m.\nSaturday\, 10:00 a.m. – 4:00 p.m. \nAs a thank you for your support\, all donors to the sale will be given a coupon worth 10% off your Sports Sale purchase.   \nLearn More about donation drop-off times\, acceptable items\, and more on our Spring & Summer Sports Sale by clicking here >> \nQuestions or Sponsorship Inquiries?  Please contact Emily Bottomley\, Director of Development\, via e-mail or at (978) 468-2377\, ext. 140.
URL:https://www.wenhammuseum.org/event/spring-summer-sports-sale-donations-accepted-3/2025-02-01/
CATEGORIES:Children & Families,Community Events,Fundraiser
ATTACH;FMTTYPE=image/png:https://www.wenhammuseum.org/wp-content/uploads/2024/12/FINAL-no-surf-2.png
END:VEVENT
BEGIN:VEVENT
DTSTART;VALUE=DATE:20250208
DTEND;VALUE=DATE:20250209
DTSTAMP:20260424T011048
CREATED:20241211T174134Z
LAST-MODIFIED:20250213T142948Z
UID:10003339-1738972800-1739059199@www.wenhammuseum.org
SUMMARY:Spring & Summer Sports Sale - Donate Now!
DESCRIPTION:Now accepting donations for Wenham Museum’s second-ever spring and summer sports sale! Donate your gently used sports equipment for sale to benefit the Wenham Museum and shop for your youth sports and outdoor recreation needs for the spring and summer season. \nDrop-Off Dates & Times\nDonations will be accepted during museum hours\, starting February 1\, 2025. \nMUSEUM HOURS\nSunday\, 12:00 p.m. – 4:00 p.m.\nMonday\, CLOSED\nTuesday\, 10:00 a.m. – 4:00 p.m.\nWednesday\, 10:00 a.m. – 4:00 p.m.\nThursday\, 10:00 a.m. – 4:00 p.m.\nFriday\, 10:00 a.m. – 4:00 p.m.\nSaturday\, 10:00 a.m. – 4:00 p.m. \nAs a thank you for your support\, all donors to the sale will be given a coupon worth 10% off your Sports Sale purchase.   \nLearn More about donation drop-off times\, acceptable items\, and more on our Spring & Summer Sports Sale by clicking here >> \nQuestions or Sponsorship Inquiries?  Please contact Emily Bottomley\, Director of Development\, via e-mail or at (978) 468-2377\, ext. 140.
URL:https://www.wenhammuseum.org/event/spring-summer-sports-sale-donations-accepted-3/2025-02-08/
CATEGORIES:Children & Families,Community Events,Fundraiser
ATTACH;FMTTYPE=image/png:https://www.wenhammuseum.org/wp-content/uploads/2024/12/FINAL-no-surf-2.png
END:VEVENT
BEGIN:VEVENT
DTSTART;VALUE=DATE:20250215
DTEND;VALUE=DATE:20250216
DTSTAMP:20260424T011048
CREATED:20241211T174134Z
LAST-MODIFIED:20250213T142948Z
UID:10003340-1739577600-1739663999@www.wenhammuseum.org
SUMMARY:Spring & Summer Sports Sale - Donate Now!
DESCRIPTION:Now accepting donations for Wenham Museum’s second-ever spring and summer sports sale! Donate your gently used sports equipment for sale to benefit the Wenham Museum and shop for your youth sports and outdoor recreation needs for the spring and summer season. \nDrop-Off Dates & Times\nDonations will be accepted during museum hours\, starting February 1\, 2025. \nMUSEUM HOURS\nSunday\, 12:00 p.m. – 4:00 p.m.\nMonday\, CLOSED\nTuesday\, 10:00 a.m. – 4:00 p.m.\nWednesday\, 10:00 a.m. – 4:00 p.m.\nThursday\, 10:00 a.m. – 4:00 p.m.\nFriday\, 10:00 a.m. – 4:00 p.m.\nSaturday\, 10:00 a.m. – 4:00 p.m. \nAs a thank you for your support\, all donors to the sale will be given a coupon worth 10% off your Sports Sale purchase.   \nLearn More about donation drop-off times\, acceptable items\, and more on our Spring & Summer Sports Sale by clicking here >> \nQuestions or Sponsorship Inquiries?  Please contact Emily Bottomley\, Director of Development\, via e-mail or at (978) 468-2377\, ext. 140.
URL:https://www.wenhammuseum.org/event/spring-summer-sports-sale-donations-accepted-3/2025-02-15/
CATEGORIES:Children & Families,Community Events,Fundraiser
ATTACH;FMTTYPE=image/png:https://www.wenhammuseum.org/wp-content/uploads/2024/12/FINAL-no-surf-2.png
END:VEVENT
BEGIN:VEVENT
DTSTART;VALUE=DATE:20250222
DTEND;VALUE=DATE:20250223
DTSTAMP:20260424T011048
CREATED:20241211T174134Z
LAST-MODIFIED:20250213T142948Z
UID:10003341-1740182400-1740268799@www.wenhammuseum.org
SUMMARY:Spring & Summer Sports Sale - Donate Now!
DESCRIPTION:Now accepting donations for Wenham Museum’s second-ever spring and summer sports sale! Donate your gently used sports equipment for sale to benefit the Wenham Museum and shop for your youth sports and outdoor recreation needs for the spring and summer season. \nDrop-Off Dates & Times\nDonations will be accepted during museum hours\, starting February 1\, 2025. \nMUSEUM HOURS\nSunday\, 12:00 p.m. – 4:00 p.m.\nMonday\, CLOSED\nTuesday\, 10:00 a.m. – 4:00 p.m.\nWednesday\, 10:00 a.m. – 4:00 p.m.\nThursday\, 10:00 a.m. – 4:00 p.m.\nFriday\, 10:00 a.m. – 4:00 p.m.\nSaturday\, 10:00 a.m. – 4:00 p.m. \nAs a thank you for your support\, all donors to the sale will be given a coupon worth 10% off your Sports Sale purchase.   \nLearn More about donation drop-off times\, acceptable items\, and more on our Spring & Summer Sports Sale by clicking here >> \nQuestions or Sponsorship Inquiries?  Please contact Emily Bottomley\, Director of Development\, via e-mail or at (978) 468-2377\, ext. 140.
URL:https://www.wenhammuseum.org/event/spring-summer-sports-sale-donations-accepted-3/2025-02-22/
CATEGORIES:Children & Families,Community Events,Fundraiser
ATTACH;FMTTYPE=image/png:https://www.wenhammuseum.org/wp-content/uploads/2024/12/FINAL-no-surf-2.png
END:VEVENT
BEGIN:VEVENT
DTSTART;TZID=America/New_York:20250227T150000
DTEND;TZID=America/New_York:20250227T180000
DTSTAMP:20260424T011048
CREATED:20241211T173601Z
LAST-MODIFIED:20250117T151345Z
UID:10003335-1740668400-1740679200@www.wenhammuseum.org
SUMMARY:Spring & Summer Sports Sale
DESCRIPTION:Mark your calendars for the Wenham Museum’s second-ever spring and summer sports sale! Donate your gently used sports equipment for sale to benefit the Wenham Museum and shop for your youth sports and outdoor recreation needs for the spring and summer season. \nLearn More about donation drop-off times\, acceptable items\, and more on our Spring & Summer Sports Sale by clicking here >> \nLooking to volunteer?  Sign up coming soon! \nQuestions or Sponsorship Inquiries?  Please contact Emily Bottomley\, Director of Development\, via e-mail or at (978) 468-2377\, ext. 140.
URL:https://www.wenhammuseum.org/event/spring-summer-sports-sale-2/2025-02-27/
CATEGORIES:Children & Families,Community Events,Fundraiser
ATTACH;FMTTYPE=image/png:https://www.wenhammuseum.org/wp-content/uploads/2024/12/FINAL-no-surf-2.png
END:VEVENT
BEGIN:VEVENT
DTSTART;TZID=America/New_York:20250228T150000
DTEND;TZID=America/New_York:20250228T180000
DTSTAMP:20260424T011048
CREATED:20241211T173601Z
LAST-MODIFIED:20250117T151345Z
UID:10003219-1740754800-1740765600@www.wenhammuseum.org
SUMMARY:Spring & Summer Sports Sale
DESCRIPTION:Mark your calendars for the Wenham Museum’s second-ever spring and summer sports sale! Donate your gently used sports equipment for sale to benefit the Wenham Museum and shop for your youth sports and outdoor recreation needs for the spring and summer season. \nLearn More about donation drop-off times\, acceptable items\, and more on our Spring & Summer Sports Sale by clicking here >> \nLooking to volunteer?  Sign up coming soon! \nQuestions or Sponsorship Inquiries?  Please contact Emily Bottomley\, Director of Development\, via e-mail or at (978) 468-2377\, ext. 140.
URL:https://www.wenhammuseum.org/event/spring-summer-sports-sale-2/2025-02-28/
CATEGORIES:Children & Families,Community Events,Fundraiser
ATTACH;FMTTYPE=image/png:https://www.wenhammuseum.org/wp-content/uploads/2024/12/FINAL-no-surf-2.png
END:VEVENT
END:VCALENDAR