BEGIN:VCALENDAR
VERSION:2.0
PRODID:-//Wenham Museum - ECPv6.15.20//NONSGML v1.0//EN
CALSCALE:GREGORIAN
METHOD:PUBLISH
X-ORIGINAL-URL:https://www.wenhammuseum.org
X-WR-CALDESC:Events for Wenham Museum
REFRESH-INTERVAL;VALUE=DURATION:PT1H
X-Robots-Tag:noindex
X-PUBLISHED-TTL:PT1H
BEGIN:VTIMEZONE
TZID:America/New_York
BEGIN:DAYLIGHT
TZOFFSETFROM:-0500
TZOFFSETTO:-0400
TZNAME:EDT
DTSTART:20230312T070000
END:DAYLIGHT
BEGIN:STANDARD
TZOFFSETFROM:-0400
TZOFFSETTO:-0500
TZNAME:EST
DTSTART:20231105T060000
END:STANDARD
BEGIN:DAYLIGHT
TZOFFSETFROM:-0500
TZOFFSETTO:-0400
TZNAME:EDT
DTSTART:20240310T070000
END:DAYLIGHT
BEGIN:STANDARD
TZOFFSETFROM:-0400
TZOFFSETTO:-0500
TZNAME:EST
DTSTART:20241103T060000
END:STANDARD
BEGIN:DAYLIGHT
TZOFFSETFROM:-0500
TZOFFSETTO:-0400
TZNAME:EDT
DTSTART:20250309T070000
END:DAYLIGHT
BEGIN:STANDARD
TZOFFSETFROM:-0400
TZOFFSETTO:-0500
TZNAME:EST
DTSTART:20251102T060000
END:STANDARD
END:VTIMEZONE
BEGIN:VEVENT
DTSTART;TZID=America/New_York:20240427T100000
DTEND;TZID=America/New_York:20240427T160000
DTSTAMP:20260424T141742
CREATED:20240313T184013Z
LAST-MODIFIED:20240424T163026Z
UID:10001488-1714212000-1714233600@www.wenhammuseum.org
SUMMARY:Silhouette Portrait Artist Appointments
DESCRIPTION:The Perfect Mother’s Day Gift!  \nOur talented silhouette artist\, Jean Comerford\, is the owner of Portraits in Silhouettes.  Portraits In Silhouette is focused on bringing you original\, personalized work\, full of inventive detail and creative spark. The silhouettes are never produced with a digital program\, copied\, or traced. You can expect a genuine\, hand-cut\, and individual portrait each time\, with consideration for the subject’s character and those great details – capturing “what makes them who they are.” Whether that is a signature hairstyle\, a cowlick\, the way they hold their mouth\, a bowtie\, or glasses\, they love to bring out the personality in their portraits. Children of all ages including wigglers are welcome! \nThe sitting fee is $79.00 per child. Each child requires his/her own sitting appointment. Each appointment is approximately 15 minutes in length. If you have more than one child\, we recommend booking back-to-back time slots. \nThe $79.00 sitting fee includes two silhouettes of your child: one facing right and one facing left. Additional copies of portraits are $25.00 and may be purchased on the day of your sitting. Frames are also available for purchase. \nInterested in visiting the museum galleries? Admission is a separate charge. \nAll cancellations made within three days of the program are nonrefundable unless your reserved sitting time can be resold.
URL:https://www.wenhammuseum.org/event/silhouette-portrait-artist-appointments/
CATEGORIES:Children & Families,Community Events,Fundraiser
ATTACH;FMTTYPE=image/jpeg:https://www.wenhammuseum.org/wp-content/uploads/2022/03/Silhouette-700-x-525-1.jpg
END:VEVENT
END:VCALENDAR