BEGIN:VCALENDAR
VERSION:2.0
PRODID:-//Wenham Museum - ECPv6.15.20//NONSGML v1.0//EN
CALSCALE:GREGORIAN
METHOD:PUBLISH
X-ORIGINAL-URL:https://www.wenhammuseum.org
X-WR-CALDESC:Events for Wenham Museum
REFRESH-INTERVAL;VALUE=DURATION:PT1H
X-Robots-Tag:noindex
X-PUBLISHED-TTL:PT1H
BEGIN:VTIMEZONE
TZID:America/New_York
BEGIN:DAYLIGHT
TZOFFSETFROM:-0500
TZOFFSETTO:-0400
TZNAME:EDT
DTSTART:20230312T070000
END:DAYLIGHT
BEGIN:STANDARD
TZOFFSETFROM:-0400
TZOFFSETTO:-0500
TZNAME:EST
DTSTART:20231105T060000
END:STANDARD
BEGIN:DAYLIGHT
TZOFFSETFROM:-0500
TZOFFSETTO:-0400
TZNAME:EDT
DTSTART:20240310T070000
END:DAYLIGHT
BEGIN:STANDARD
TZOFFSETFROM:-0400
TZOFFSETTO:-0500
TZNAME:EST
DTSTART:20241103T060000
END:STANDARD
BEGIN:DAYLIGHT
TZOFFSETFROM:-0500
TZOFFSETTO:-0400
TZNAME:EDT
DTSTART:20250309T070000
END:DAYLIGHT
BEGIN:STANDARD
TZOFFSETFROM:-0400
TZOFFSETTO:-0500
TZNAME:EST
DTSTART:20251102T060000
END:STANDARD
END:VTIMEZONE
BEGIN:VEVENT
DTSTART;TZID=America/New_York:20240302T090000
DTEND;TZID=America/New_York:20240302T160000
DTSTAMP:20260424T153209
CREATED:20240118T200155Z
LAST-MODIFIED:20240118T200230Z
UID:10001466-1709370000-1709395200@www.wenhammuseum.org
SUMMARY:Spring & Summer Sports Sale
DESCRIPTION:Mark your calendars for the Wenham Museum’s first-ever spring and summer sports sale! Donate your gently used sports equipment for sale to benefit the Wenham Museum and shop for your youth sports and outdoor recreation needs for the spring and summer season. \nLearn More about donation drop-off times\, acceptable items\, and more on our Spring & Summer Sports Sale by clicking here >> \nLooking to volunteer?  Sign up here! \nQuestions or Sponsorship Inquiries?  Please contact Emily Bottomley\, Director of Development\, via e-mail or at (978) 468-2377\, ext. 140.
URL:https://www.wenhammuseum.org/event/spring-summer-sports-sale/2024-03-02/
CATEGORIES:Children & Families,Community Events,Fundraiser
ATTACH;FMTTYPE=image/png:https://www.wenhammuseum.org/wp-content/uploads/2024/01/FINAL-no-surf.png
END:VEVENT
BEGIN:VEVENT
DTSTART;TZID=America/New_York:20240303T090000
DTEND;TZID=America/New_York:20240303T160000
DTSTAMP:20260424T153209
CREATED:20240118T200155Z
LAST-MODIFIED:20240118T200230Z
UID:10001467-1709456400-1709481600@www.wenhammuseum.org
SUMMARY:Spring & Summer Sports Sale
DESCRIPTION:Mark your calendars for the Wenham Museum’s first-ever spring and summer sports sale! Donate your gently used sports equipment for sale to benefit the Wenham Museum and shop for your youth sports and outdoor recreation needs for the spring and summer season. \nLearn More about donation drop-off times\, acceptable items\, and more on our Spring & Summer Sports Sale by clicking here >> \nLooking to volunteer?  Sign up here! \nQuestions or Sponsorship Inquiries?  Please contact Emily Bottomley\, Director of Development\, via e-mail or at (978) 468-2377\, ext. 140.
URL:https://www.wenhammuseum.org/event/spring-summer-sports-sale/2024-03-03/
CATEGORIES:Children & Families,Community Events,Fundraiser
ATTACH;FMTTYPE=image/png:https://www.wenhammuseum.org/wp-content/uploads/2024/01/FINAL-no-surf.png
END:VEVENT
END:VCALENDAR