BEGIN:VCALENDAR
VERSION:2.0
PRODID:-//Wenham Museum - ECPv6.15.20//NONSGML v1.0//EN
CALSCALE:GREGORIAN
METHOD:PUBLISH
X-WR-CALNAME:Wenham Museum
X-ORIGINAL-URL:https://www.wenhammuseum.org
X-WR-CALDESC:Events for Wenham Museum
REFRESH-INTERVAL;VALUE=DURATION:PT1H
X-Robots-Tag:noindex
X-PUBLISHED-TTL:PT1H
BEGIN:VTIMEZONE
TZID:America/New_York
BEGIN:DAYLIGHT
TZOFFSETFROM:-0500
TZOFFSETTO:-0400
TZNAME:EDT
DTSTART:20210314T070000
END:DAYLIGHT
BEGIN:STANDARD
TZOFFSETFROM:-0400
TZOFFSETTO:-0500
TZNAME:EST
DTSTART:20211107T060000
END:STANDARD
BEGIN:DAYLIGHT
TZOFFSETFROM:-0500
TZOFFSETTO:-0400
TZNAME:EDT
DTSTART:20220313T070000
END:DAYLIGHT
BEGIN:STANDARD
TZOFFSETFROM:-0400
TZOFFSETTO:-0500
TZNAME:EST
DTSTART:20221106T060000
END:STANDARD
BEGIN:DAYLIGHT
TZOFFSETFROM:-0500
TZOFFSETTO:-0400
TZNAME:EDT
DTSTART:20230312T070000
END:DAYLIGHT
BEGIN:STANDARD
TZOFFSETFROM:-0400
TZOFFSETTO:-0500
TZNAME:EST
DTSTART:20231105T060000
END:STANDARD
END:VTIMEZONE
BEGIN:VEVENT
DTSTART;TZID=America/New_York:20220624T193000
DTEND;TZID=America/New_York:20220624T210000
DTSTAMP:20260425T192148
CREATED:20220608T142855Z
LAST-MODIFIED:20220613T224444Z
UID:10000239-1656099000-1656104400@www.wenhammuseum.org
SUMMARY:Opening Reception: Caring Counts & LuminArtz
DESCRIPTION:The exhibition Caring Counts:  Centuries in the Making by artist Leslie Lyman opens at the Wenham Museum today! \nArtist Leslie Lyman’s recent sculptural piece is about the often unnoticed\, but physically and emotionally difficult\, work of caring for others–work that is usually performed by women. Using a handmade account book\, which visitors will be able to touch and read\, she has documented these seemingly innumerable tasks. The display will be accompanied by still photographs that reference caregiver’s efforts on behalf of those they love\, and objects from the Wenham Museum’s own collection that support the history of care provided by women. Hands-on components will allow visitors to touch some the tools that have been used to provide care. \nJoin us for an opening reception on Friday\, June 24\, 2022 starting at 7:30 p.m.  A $10 Suggested Donation is requested at the door and a cash bar and light refreshments will be available.  \nThis opening reception will also feature a special\, live\, outdoor video art installation by LuminArtz beginning at 8:30 p.m.  This installation will be projected on the exterior of the Wenham Museum’s building and feature Leslie Lyman’s work as reimagined by artist Pamela Hersch. \nDuring the Opening Reception\, guests can also view the Caring Counts exhibition in the museum’s galleries. \nLearn more about Leslie Lyman >>\nLearn more about Pamela Hersch >>\nExplore the 2020 LuminArtz installation at the Wenham Museum >> \nThank You to Our Sponsor: LuminArtz
URL:https://www.wenhammuseum.org/event/opening-reception-caring-counts-luminartz/
CATEGORIES:Community Events,Fundraiser,Local History
ATTACH;FMTTYPE=image/jpeg:https://www.wenhammuseum.org/wp-content/uploads/2022/06/Caring-Counts-700-×-525-px.jpg
END:VEVENT
END:VCALENDAR