BEGIN:VCALENDAR
VERSION:2.0
PRODID:-//Wenham Museum - ECPv6.15.20//NONSGML v1.0//EN
CALSCALE:GREGORIAN
METHOD:PUBLISH
X-WR-CALNAME:Wenham Museum
X-ORIGINAL-URL:https://www.wenhammuseum.org
X-WR-CALDESC:Events for Wenham Museum
REFRESH-INTERVAL;VALUE=DURATION:PT1H
X-Robots-Tag:noindex
X-PUBLISHED-TTL:PT1H
BEGIN:VTIMEZONE
TZID:America/New_York
BEGIN:DAYLIGHT
TZOFFSETFROM:-0500
TZOFFSETTO:-0400
TZNAME:EDT
DTSTART:20250309T070000
END:DAYLIGHT
BEGIN:STANDARD
TZOFFSETFROM:-0400
TZOFFSETTO:-0500
TZNAME:EST
DTSTART:20251102T060000
END:STANDARD
BEGIN:DAYLIGHT
TZOFFSETFROM:-0500
TZOFFSETTO:-0400
TZNAME:EDT
DTSTART:20260308T070000
END:DAYLIGHT
BEGIN:STANDARD
TZOFFSETFROM:-0400
TZOFFSETTO:-0500
TZNAME:EST
DTSTART:20261101T060000
END:STANDARD
BEGIN:DAYLIGHT
TZOFFSETFROM:-0500
TZOFFSETTO:-0400
TZNAME:EDT
DTSTART:20270314T070000
END:DAYLIGHT
BEGIN:STANDARD
TZOFFSETFROM:-0400
TZOFFSETTO:-0500
TZNAME:EST
DTSTART:20271107T060000
END:STANDARD
END:VTIMEZONE
BEGIN:VEVENT
DTSTART;TZID=America/New_York:20260423T100000
DTEND;TZID=America/New_York:20260423T110000
DTSTAMP:20260423T082749
CREATED:20260417T225645Z
LAST-MODIFIED:20260417T225645Z
UID:10004441-1776938400-1776942000@www.wenhammuseum.org
SUMMARY:Rainforest Reptiles - SOLD OUT
DESCRIPTION:Get ready for an immersive\, hands-on reptile adventure with Rainforest Reptiles! For more than 30 years\, this popular live animal show has been bringing audiences face-to-face with rescued reptiles through exciting\, interactive presentations.  \nMeet incredible reptiles up close\, discover surprising facts\, and experience the thrill of a live animal encounter. With plenty of audience interaction\, memorable moments\, and creatures you may have never seen before\, this crowd-pleasing program is sure to delight curious kids and adventurous grown-ups alike. \n10 AM show: sold out\nRegister for the 2 PM show here >> \nPlease note: Museum admission is required for non-members and is included in the ticket price below. \nTickets:\n$12 – Member Child/Adult/Senior\n$24 – Nonmember Child/Senior (includes Program Ticket + Museum Admission)\n$29 – Nonmember Adult (includes Program Ticket + Museum Admission)\nFree – Child under 2 years old \nFor the full schedule of all the April Break Adventures at the Museum\, please visit this link >>. 
URL:https://www.wenhammuseum.org/event/rainforest-reptiles-2/
CATEGORIES:April Vacation,Children & Families
ATTACH;FMTTYPE=image/jpeg:https://www.wenhammuseum.org/wp-content/uploads/2026/03/Rainforest-Reptiles.jpg
END:VEVENT
BEGIN:VEVENT
DTSTART;TZID=America/New_York:20260423T100000
DTEND;TZID=America/New_York:20260423T150000
DTSTAMP:20260423T082749
CREATED:20260324T144239Z
LAST-MODIFIED:20260325T141529Z
UID:10004447-1776938400-1776956400@www.wenhammuseum.org
SUMMARY:Create & Craft
DESCRIPTION: Create\, Craft\, and Imagine!  \nMake the most of school vacation week with hands-on creativity at the museum! Kids can choose from a menu of craft projects — from colorful creations to take-home treasures — and make something uniquely their own. \n  $10 per craft\n No registration needed — just stop in\, get inspired\, and let your creativity shine!\n Regular museum admission is required — then it’s up to you how crafty you get!
URL:https://www.wenhammuseum.org/event/create-craft-3/2026-04-23/
CATEGORIES:April Vacation,Children & Families
ATTACH;FMTTYPE=image/jpeg:https://www.wenhammuseum.org/wp-content/uploads/2026/03/April.jpg
END:VEVENT
BEGIN:VEVENT
DTSTART;TZID=America/New_York:20260423T140000
DTEND;TZID=America/New_York:20260423T150000
DTSTAMP:20260423T082749
CREATED:20260323T164100Z
LAST-MODIFIED:20260417T225602Z
UID:10004442-1776952800-1776956400@www.wenhammuseum.org
SUMMARY:Rainforest Reptiles
DESCRIPTION:Get ready for an immersive\, hands-on reptile adventure with Rainforest Reptiles! For more than 30 years\, this popular live animal show has been bringing audiences face-to-face with rescued reptiles through exciting\, interactive presentations.  \nMeet incredible reptiles up close\, discover surprising facts\, and experience the thrill of a live animal encounter. With plenty of audience interaction\, memorable moments\, and creatures you may have never seen before\, this crowd-pleasing program is sure to delight curious kids and adventurous grown-ups alike. \n10 AM show: sold out\nRegister for the 2 PM show here >> \nPlease note: Museum admission is required for non-members and is included in the ticket price below. \nTickets:\n$12 – Member Child/Adult/Senior\n$24 – Nonmember Child/Senior (includes Program Ticket + Museum Admission)\n$29 – Nonmember Adult (includes Program Ticket + Museum Admission)\nFree – Child under 2 years old \nFor the full schedule of all the April Break Adventures at the Museum\, please visit this link >>. 
URL:https://www.wenhammuseum.org/event/rainforest-reptiles/2026-04-23/
CATEGORIES:April Vacation,Children & Families
ATTACH;FMTTYPE=image/jpeg:https://www.wenhammuseum.org/wp-content/uploads/2026/03/Rainforest-Reptiles.jpg
END:VEVENT
END:VCALENDAR