BEGIN:VCALENDAR
VERSION:2.0
PRODID:-//Wenham Museum - ECPv6.15.20//NONSGML v1.0//EN
CALSCALE:GREGORIAN
METHOD:PUBLISH
X-WR-CALNAME:Wenham Museum
X-ORIGINAL-URL:https://www.wenhammuseum.org
X-WR-CALDESC:Events for Wenham Museum
REFRESH-INTERVAL;VALUE=DURATION:PT1H
X-Robots-Tag:noindex
X-PUBLISHED-TTL:PT1H
BEGIN:VTIMEZONE
TZID:America/New_York
BEGIN:DAYLIGHT
TZOFFSETFROM:-0500
TZOFFSETTO:-0400
TZNAME:EDT
DTSTART:20250309T070000
END:DAYLIGHT
BEGIN:STANDARD
TZOFFSETFROM:-0400
TZOFFSETTO:-0500
TZNAME:EST
DTSTART:20251102T060000
END:STANDARD
BEGIN:DAYLIGHT
TZOFFSETFROM:-0500
TZOFFSETTO:-0400
TZNAME:EDT
DTSTART:20260308T070000
END:DAYLIGHT
BEGIN:STANDARD
TZOFFSETFROM:-0400
TZOFFSETTO:-0500
TZNAME:EST
DTSTART:20261101T060000
END:STANDARD
BEGIN:DAYLIGHT
TZOFFSETFROM:-0500
TZOFFSETTO:-0400
TZNAME:EDT
DTSTART:20270314T070000
END:DAYLIGHT
BEGIN:STANDARD
TZOFFSETFROM:-0400
TZOFFSETTO:-0500
TZNAME:EST
DTSTART:20271107T060000
END:STANDARD
END:VTIMEZONE
BEGIN:VEVENT
DTSTART;TZID=America/New_York:20260421T100000
DTEND;TZID=America/New_York:20260421T150000
DTSTAMP:20260421T053313
CREATED:20260324T144239Z
LAST-MODIFIED:20260325T141529Z
UID:10004445-1776765600-1776783600@www.wenhammuseum.org
SUMMARY:Create & Craft
DESCRIPTION: Create\, Craft\, and Imagine!  \nMake the most of school vacation week with hands-on creativity at the museum! Kids can choose from a menu of craft projects — from colorful creations to take-home treasures — and make something uniquely their own. \n  $10 per craft\n No registration needed — just stop in\, get inspired\, and let your creativity shine!\n Regular museum admission is required — then it’s up to you how crafty you get!
URL:https://www.wenhammuseum.org/event/create-craft-3/2026-04-21/
CATEGORIES:April Vacation,Children & Families
ATTACH;FMTTYPE=image/jpeg:https://www.wenhammuseum.org/wp-content/uploads/2026/03/April.jpg
END:VEVENT
BEGIN:VEVENT
DTSTART;TZID=America/New_York:20260421T110000
DTEND;TZID=America/New_York:20260421T120000
DTSTAMP:20260421T053313
CREATED:20260409T141016Z
LAST-MODIFIED:20260420T002316Z
UID:10004450-1776769200-1776772800@www.wenhammuseum.org
SUMMARY:Animal Adventures - SOLD OUT
DESCRIPTION:This program is sold out.\nFor the full schedule of all the April Break Adventures at the Museum\, please visit this link >>.  \nGet ready to meet some amazing animals in this exciting live program from Animal Adventures! During this interactive\, all-ages presentation\, an Animal Adventure Guide will introduce fascinating creatures\, share fun stories\, and reveal surprising facts about each one.  \nFrom soft and fuzzy to scaly and surprising\, you’ll meet a lively assortment of animals that crawl\, hop\, slither\, and scurry. With plenty of audience interaction—and even opportunities for controlled touching and petting—this lively program offers a memorable\, hands-on experience that animal lovers of all ages will enjoy. 
URL:https://www.wenhammuseum.org/event/animal-adventures-2-2/
CATEGORIES:April Vacation,Children & Families
ATTACH;FMTTYPE=image/jpeg:https://www.wenhammuseum.org/wp-content/uploads/2026/03/Animal-Adventures.jpg
END:VEVENT
BEGIN:VEVENT
DTSTART;TZID=America/New_York:20260421T130000
DTEND;TZID=America/New_York:20260421T140000
DTSTAMP:20260421T053313
CREATED:20260409T141110Z
LAST-MODIFIED:20260420T002218Z
UID:10004438-1776776400-1776780000@www.wenhammuseum.org
SUMMARY:Animal Adventures - SOLD OUT
DESCRIPTION:This program is sold out.\nFor the full schedule of all the April Break Adventures at the Museum\, please visit this link >>.  \nGet ready to meet some amazing animals in this exciting live program from Animal Adventures! During this interactive\, all-ages presentation\, an Animal Adventure Guide will introduce fascinating creatures\, share fun stories\, and reveal surprising facts about each one.  \nFrom soft and fuzzy to scaly and surprising\, you’ll meet a lively assortment of animals that crawl\, hop\, slither\, and scurry. With plenty of audience interaction—and even opportunities for controlled touching and petting—this lively program offers a memorable\, hands-on experience that animal lovers of all ages will enjoy.  \n 
URL:https://www.wenhammuseum.org/event/animal-adventures-2-3/
CATEGORIES:April Vacation,Children & Families
ATTACH;FMTTYPE=image/jpeg:https://www.wenhammuseum.org/wp-content/uploads/2026/03/Animal-Adventures.jpg
END:VEVENT
END:VCALENDAR